Workbook

Sheet Overzicht van investeringen
A1: Totale investeringen | B1: 2025 | C1: 2026 | D1: 2027 | E1: 2028 | F1: 2029 | G1: 2030 | H1: Totaal
A2: Bronzenwei | B2: =Bronzenwei!E58 -> 590000 | C2: =Bronzenwei!F58 -> 1420000 | D2: =Bronzenwei!G58 -> 117558 | E2: =Bronzenwei!H58 -> 258049 | F2: =Bronzenwei!I58 -> 159136 | G2: =Bronzenwei!J58 -> 590900 | H2: =SUM(B2:G2) -> 3135643
A3: Coevering | B3: =Coevering!E27 -> 0 | C3: =Coevering!F27 -> 126800 | D3: =Coevering!G27 -> 159136 | E3: =Coevering!H27 -> 0 | F3: =Coevering!I27 -> 0 | G3: =Coevering!J27 -> 352674 | H3: =SUM(B3:G3) -> 638610
A4: De ark | B4: ='De Ark'!E36 -> 0 | C4: ='De Ark'!F36 -> 750000 | D4: ='De Ark'!G36 -> 921178.17 | E4: ='De Ark'!H36 -> 116058.12 | F4: ='De Ark'!I36 -> 0 | G4: ='De Ark'!J36 -> 197823.91 | H4: =SUM(B4:G4) -> 1985060.2
A5: Oudven | B5: =Oudven!E10 -> 0 | C5: =Oudven!F10 -> 765000 | D5: =Oudven!G10 -> 97518.828 | E5: =Oudven!H10 -> 0 | F5: =Oudven!I10 -> 0 | G5: =Oudven!J10 -> 0 | H5: =SUM(B5:G5) -> 862518.83
A6: Kievit | B6: =Kievit!E62 -> 0 | C6: =Kievit!F62 -> 0 | D6: =Kievit!G62 -> 55082.063 | E6: =Kievit!H62 -> 0 | F6: =Kievit!I62 -> 1627278.9 | G6: =Kievit!J62 -> 2205640.1 | H6: =SUM(B6:G6) -> 3888001.1
A7: Kervel | B7: =Kervel!E10 -> 0 | C7: =Kervel!F10 -> 0 | D7: =Kervel!G10 -> 499489.29 | E7: =Kervel!H10 -> 0 | F7: =Kervel!I10 -> 0 | G7: =Kervel!J10 -> 0 | H7: =SUM(B7:G7) -> 499489.29
A8: Ornithos | B8: =Ornithos!D5 -> - | C8: =Ornithos!E5 -> - | D8: =Ornithos!F5 -> - | E8: =Ornithos!G5 -> - | F8: =Ornithos!H5 -> 112200.23 | G8: =Ornithos!I5 -> 0 | H8: =SUM(B8:G8) -> 112200.23
A9: Overige | B9: 0 | C9: 0 | D9: 150000 | E9: 0 | F9: 0 | G9: 0 | H9: =SUM(B9:G9) -> 150000
A10: Totale investering | B10: =SUM(B2:B9) -> 590000 | C10: =SUM(C2:C9) -> 3061800 | D10: =SUM(D2:D9) -> 1999962.4 | E10: =SUM(E2:E9) -> 374107.12 | F10: =SUM(F2:F9) -> 1898615.1 | G10: =SUM(G2:G9) -> 3347038 | H10: =SUM(B10:G10) -> 11271523
A12: Opgenomen in de begroting | B12: 2025 | C12: 2026 | D12: 2027 | E12: 2028 | F12: 2029 | G12: 2030 | H12: Totaal
A13: Bronzenwei | B13: 590000 | C13: 1420000 | D13: 0 | E13: 0 | F13: 0 | G13: 0 | H13: =SUM(B13:G13) -> 2010000
A14: Coevering | B14: 0 | C14: =Coevering!F11 -> 126800 | D14: 0 | E14: 0 | F14: 0 | G14: 0 | H14: =SUM(B14:G14) -> 126800
A15: De ark | B15: 0 | C15: 750000 | D15: 0 | E15: 0 | F15: 0 | G15: 0 | H15: =SUM(B15:G15) -> 750000
A16: Oudven | B16: 0 | C16: 765000 | D16: 0 | E16: 0 | F16: 0 | G16: 0 | H16: =SUM(B16:G16) -> 765000
A17: Kievit | B17: 0 | C17: 0 | D17: 0 | E17: 0 | F17: 0 | G17: 0 | H17: =SUM(B17:G17) -> 0
A18: Kervel | B18: 0 | C18: 0 | D18: 0 | E18: 0 | F18: 0 | G18: 0 | H18: =SUM(B18:G18) -> 0
A19: Ornithos | B19: 0 | C19: 0 | D19: 0 | E19: 0 | F19: 0 | G19: 0 | H19: =SUM(B19:G19) -> 0
A20: Overige | B20: 0 | C20: 0 | D20: 0 | E20: 0 | F20: 0 | G20: 0 | H20: =SUM(B20:G20) -> 0
A21: Totaal opgenomen in begroting | B21: =SUM(B13:B19) -> 590000 | C21: =SUM(C13:C19) -> 3061800 | D21: =SUM(D13:D19) -> 0 | E21: =SUM(E13:E19) -> 0 | F21: =SUM(F13:F19) -> 0 | G21: =SUM(G13:G19) -> 0 | H21: =SUM(B21:G21) -> 3651800
A24: Nog op te nemen in de begroting | B24: 2025 | C24: 2026 | D24: 2027 | E24: 2028 | F24: 2029 | G24: 2030 | H24: Totaal
A25: Bronzenwei | B25: =B2-B13 -> 0 | C25: =C2-C13 -> 0 | D25: =D2-D13 -> 117558 | E25: =E2-E13 -> 258049 | F25: =F2-F13 -> 159136 | G25: =G2-G13 -> 590900 | H25: =SUM(B25:G25) -> 1125643
A26: Coevering | B26: =B3-B14 -> 0 | C26: =C3-C14 -> 0 | D26: =D3-D14 -> 159136 | E26: =E3-E14 -> 0 | F26: =F3-F14 -> 0 | G26: =G3-G14 -> 352674 | H26: =SUM(B26:G26) -> 511810
A27: De ark | B27: =B4-B15 -> 0 | C27: =C4-C15 -> 0 | D27: =D4-D15 -> 921178.17 | E27: =E4-E15 -> 116058.12 | F27: =F4-F15 -> 0 | G27: =G4-G15 -> 197823.91 | H27: =SUM(B27:G27) -> 1235060.2
A28: Oudven | B28: =B5-B16 -> 0 | C28: =C5-C16 -> 0 | D28: =D5-D16 -> 97518.828 | E28: =E5-E16 -> 0 | F28: =F5-F16 -> 0 | G28: =G5-G16 -> 0 | H28: =SUM(B28:G28) -> 97518.828
A29: Kievit | B29: =B6-B17 -> 0 | C29: =C6-C17 -> 0 | D29: =D6-D17 -> 55082.063 | E29: =E6-E17 -> 0 | F29: =F6-F17 -> 1627278.9 | G29: =G6-G17 -> 2205640.1 | H29: =SUM(B29:G29) -> 3888001.1
A30: Kervel | B30: =B7-B18 -> 0 | C30: =C7-C18 -> 0 | D30: =D7-D18 -> 499489.29 | E30: =E7-E18 -> 0 | F30: =F7-F18 -> 0 | G30: =G7-G18 -> 0 | H30: =SUM(B30:G30) -> 499489.29
A31: Ornithos | B31: 0 | C31: 0 | D31: 0 | E31: 0 | F31: =F8-F19 -> 112200.23 | G31: =G8-G19 -> 0 | H31: =SUM(B31:G31) -> 112200.23
A32: Overige | B32: 0 | C32: 0 | D32: 150000 | E32: 0 | F32: 0 | G32: 0 | H32: =SUM(B32:G32) -> 150000
A33: Totaal | B33: =B10-B21 -> 0 | C33: =C10-C21 -> 0 | D33: =D10-D21 -> 1999962.4 | E33: =E10-E21 -> 374107.12 | F33: =F10-F21 -> 1898615.1 | G33: =G10-G21 -> 3347038 | H33: =SUM(B33:G33) -> 7619722.6

Sheet Bronzenwei
A2: Vereniging | B2: Omschrijving | C2: Onderdeel | D2: Opmerkingen | E2: 2025 | F2: 2026 | G2: 2027 | H2: 2028 | I2: 2029 | J2: 2030
A3: Hockey Geldrop | B3: Veld 1 - Kunstgrasveld | C3: Ballenvanger verzinkt hoogte: 7,00m (7,00m net) | H3: 8895
A4: Hockey Geldrop | B4: Veld 1 - Kunstgrasveld | C4: Ballenvanger verzinkt hoogte: 3,00m (3,00m net) | H4: 6751
A5: Hockey Geldrop | B5: Veld 1 - Kunstgrasveld | C5: Toplaag kunstgras hockey waterveld | J5: 337244
A6: Hockey Geldrop | B6: Veld 1 - Kunstgrasveld | C6: Foamlaag/Shockpad hockey waterveld | J6: 94090
A7: Hockey Geldrop | B7: Veld 1 - Kunstgrasveld | C7: Hockeydoel | J7: 10716
A8: Hockey Geldrop | B8: Veld 1 - Kunstgrasveld | C8: Verplaatsbaardoel hockey | J8: 21326
A9: Hockey Geldrop | B9: Veld 1 - Kunstgrasveld | C9: Slagplanken kunststof (hoogte 0,15m) | J9: 9966
A10: Hockey Geldrop | B10: Veld 2 - Kunstgrasveld semi-waterveld | C10: Toplaag kunstgras hockey semi-waterveld naar dry-hockey | D10: Reeds opgenomen in de begroting | F10: 440000
A11: Hockey Geldrop | B11: Veld 2 - Kunstgrasveld semi-waterveld | C11: Foamlaag/Shockpad hockey semi-waterveld
A12: Hockey Geldrop | B12: Veld 2 - Kunstgrasveld semi-waterveld | C12: Sporttechnische laag lava/rubber hockey semi-waterveld | F12: 180000
A13: Hockey Geldrop | B13: Veld 2 - Kunstgrasveld semi-waterveld | C13: Hockeydoel
A14: Hockey Geldrop | B14: Veld 2 - Kunstgrasveld semi-waterveld | C14: Verplaatsbaardoel hockey
A15: Hockey Geldrop | B15: Veld 2 - Kunstgrasveld semi-waterveld | C15: Ballenvanger verzinkt hoogte: 7,00m (7,00m net) | H15: 8895
A16: Hockey Geldrop | B16: Veld 2 - Kunstgrasveld semi-waterveld | C16: Ballenvanger verzinkt hoogte: 3,00m (3,00m net) | H16: 6751
A17: Hockey Geldrop | B17: Veld 2 - Kunstgrasveld semi-waterveld | C17: Net ballenvanger (hockey) | H17: 9109
A18: Hockey Geldrop | B18: Veld 2 - Kunstgrasveld semi-waterveld | C18: Verlichting, vervangen armatuur conventioneel > led | H18: 45330
A19: Hockey Geldrop | B19: Veld 3 - Kunstgrasveld zandveld | C19: Toplaag kunstgras hockey zandveld | D19: Reeds opgenomen in de begroting | F19: 475000
A20: Hockey Geldrop | B20: Veld 3 - Kunstgrasveld zandveld | C20: Foamlaag/Shockpad hockey zandveld | F20: 325000
A21: Hockey Geldrop | B21: Veld 3 - Kunstgrasveld zandveld | C21: Sporttechnische laag lava/rubber hockey zandveld
A22: Hockey Geldrop | B22: Veld 3 - Kunstgrasveld zandveld | C22: Hockeydoel
A23: Hockey Geldrop | B23: Veld 3 - Kunstgrasveld zandveld | C23: Verplaatsbaardoel hockey
A24: Hockey Geldrop | B24: Veld 3 - Kunstgrasveld zandveld | C24: Leunhekwerk gaas (verzinkt)
A25: Hockey Geldrop | B25: Veld 3 - Kunstgrasveld zandveld | C25: Net ballenvanger (hockey)
A26: Hockey Geldrop | B26: Veld 3 - Kunstgrasveld zandveld | C26: Slagplanken hout (hoogte 0,15m) renoveren door kunststof
A27: Hockey Geldrop | B27: Veld 3 - Kunstgrasveld zandveld | C27: Slagplanken hout (hoogte 0,45m) renoveren door kunststof
A28: Hockey Geldrop | B28: Veld 3 - Kunstgrasveld zandveld | C28: Dug-out 3,00m polycarbonaat
A29: Hockey Geldrop | B29: Veld 3 - Kunstgrasveld zandveld | C29: Verlichting, vervangen armatuur conventioneel > led
A30: Hockey Geldrop | B30: Veld 4 - Kunstgrasveld semi-waterveld | C30: Toplaag kunstgras hockey semi-waterveld naar dry-hockey | D30: Reeds opgenomen in de begroting | E30: 410000
A31: Hockey Geldrop | B31: Veld 4 - Kunstgrasveld semi-waterveld | C31: Foamlaag/Shockpad hockey semi-waterveld | E31: 180000
A32: Hockey Geldrop | B32: Veld 4 - Kunstgrasveld semi-waterveld | C32: Sporttechnische laag lava/rubber hockey semi-waterveld
A33: Hockey Geldrop | B33: Veld 4 - Kunstgrasveld semi-waterveld | C33: Hockeydoel
A34: Hockey Geldrop | B34: Veld 4 - Kunstgrasveld semi-waterveld | C34: Verplaatsbaardoel hockey
A35: Hockey Geldrop | B35: Veld 4 - Kunstgrasveld semi-waterveld | C35: Net ballenvanger (hockey) | H35: 4608
A36: Hockey Geldrop | B36: Veld 4 - Kunstgrasveld semi-waterveld | C36: Slagplanken hout (hoogte 0,45m) renoveren door kunststof | H36: 4822
A37: Hockey Geldrop | B37: Veld 4 - Kunstgrasveld semi-waterveld | C37: Verlichting, vervangen armatuur conventioneel > led | H37: 45330
A38: T.C de Helze | B38: Baanblok 1-2 Zandgestrooid kunstgras | C38: Toplaag renovatie zand kunstgras | J38: 67084
A39: T.C de Helze | B39: Baanblok 1-2 Zandgestrooid kunstgras | C39: Sporttechnische laag lava tennis | J39: 21218
A40: T.C de Helze | B40: Baanblok 1-2 Zandgestrooid kunstgras | C40: Tennisstaanders en net | J40: 3108
A41: T.C de Helze | B41: Baanblok 1-2 Zandgestrooid kunstgras | C41: Ledikanthekwerk (verzinkt) | J41: 26148
...

Sheet Coevering
A2: Vereniging | B2: Omschrijving | C2: Onderdeel | D2: Opmerkingen | E2: 2025 | F2: 2026 | G2: 2027 | H2: 2028 | I2: 2029 | J2: 2030
A3: GLTV De Mast | B3: Baanblok 3-4 Zandgestrooid kunstgras | C3: Toplaag renovatie zand kunstgras | J3: 67084
A4: GLTV De Mast | B4: Baanblok 3-4 Zandgestrooid kunstgras | C4: Sporttechnische laag lava tennis | J4: 21218
A5: GLTV De Mast | B5: Baanblok 3-4 Zandgestrooid kunstgras | C5: Tennisstaanders en net | J5: 3108
A6: GLTV De Mast | B6: Baanblok 3-4 Zandgestrooid kunstgras | C6: Ledikanthekwerk (verzinkt) | J6: 26148
A7: GLTV De Mast | B7: Baanblok 5-6 Zandingestrooid kunstgras | C7: Toplaag renovatie zand kunstgras | G7: 67084
A8: GLTV De Mast | B8: Baanblok 5-6 Zandingestrooid kunstgras | C8: Sporttechnische laag lava tennis | G8: 21218
A9: GLTV De Mast | B9: Baanblok 5-6 Zandingestrooid kunstgras | C9: Tennisstaanders en net | G9: 3108
A10: GLTV De Mast | B10: Baanblok 5-6 Zandingestrooid kunstgras | C10: Ledikanthekwerk (verzinkt) | G10: 26148
A11: GLTV De Mast | B11: Baanblok 7-8 Zandingestrooid kunstgras | C11: Toplaag renovatie zand kunstgras | D11: Reeds opgenomen in de begroting | F11: 126800
A12: GLTV De Mast | B12: Baanblok 7-8 Zandingestrooid kunstgras | C12: Tennisstaanders en net
A13: GLTV De Mast | B13: Baanblok 7-8 Zandingestrooid kunstgras | C13: Ledikanthekwerk (verzinkt)
A14: GLTV De Mast | B14: Baanblok 9-10 Zandingestrooid kunstgras | C14: Toplaag renovatie zand kunstgras | J14: 67084
A15: GLTV De Mast | B15: Baanblok 9-10 Zandingestrooid kunstgras | C15: Sporttechnische laag lava tennis | J15: 21218
A16: GLTV De Mast | B16: Baanblok 9-10 Zandingestrooid kunstgras | C16: Tennisstaanders en net | J16: 3108
A17: GLTV De Mast | B17: Baanblok 9-10 Zandingestrooid kunstgras | C17: Ledikanthekwerk (verzinkt) | J17: 26148
A18: GLTV De Mast | B18: Baanblok 11-12 Zandingestrooid kunstgras | C18: Toplaag renovatie zand kunstgras | J18: 67084
A19: GLTV De Mast | B19: Baanblok 11-12 Zandingestrooid kunstgras | C19: Sporttechnische laag lava tennis | J19: 21218
A20: GLTV De Mast | B20: Baanblok 11-12 Zandingestrooid kunstgras | C20: Tennisstaanders en net | J20: 3108
A21: GLTV De Mast | B21: Baanblok 11-12 Zandingestrooid kunstgras | C21: Ledikanthekwerk (verzinkt) | J21: 26148
A22: GLTV De Mast | B22: 1 - Padelbaan | C22: Toplaag renovatie kunstgras padel | G22: 19825
A23: GLTV De Mast | B23: 1 - Padelbaan | C23: Tennisstaanders en net (padel) | G23: 964
A24: GLTV De Mast | B24: 2 - Padelbaan | C24: Toplaag renovatie kunstgras padel | G24: 19825
A25: GLTV De Mast | B25: 2 - Padelbaan | C25: Tennisstaanders en net (padel) | G25: 964
A26: GLTV De Mast | B26: Overige inrichting | C26: Asfalt verharding | D26: Word bekostigd uit regulier budget
E27: =SUM(E7:E26) -> 0 | F27: =SUM(F7:F26) -> 126800 | G27: =SUM(G3:G26) -> 159136 | H27: =SUM(H7:H26) -> 0 | I27: =SUM(I7:I26) -> 0 | J27: =SUM(J3:J26) -> 352674

Sheet De Ark
A2: Vereniging | B2: Omschrijving | C2: Onderdeel | D2: Opmerkingen | E2: 2025 | F2: 2026 | G2: 2027 | H2: 2028 | I2: 2029 | J2: 2030
A3: VV Mifano | B3: Veld 1 - Natuurgras wedstrijdveld | C3: Net ballenvanger | G3: 5037
A4: VV Mifano | B4: Veld 1 - Natuurgras wedstrijdveld | C4: Lichte toplaag renovatie natuurgras | J4: 56153.699
A5: VV Mifano | B5: Veld 1 - Natuurgras wedstrijdveld | C5: Drainage voetbalveld | J5: 59368.605
A6: VV Mifano | B6: Veld 1 - Natuurgras wedstrijdveld | C6: Doel voetbal (p-doel) | J6: 6751.3035
A7: VV Mifano | B7: Veld 1 - Natuurgras wedstrijdveld | C7: Dug-out 4,00 m polycarbonaat | J7: 19610.929
A8: VV Mifano | B8: Veld 1 - Natuurgras wedstrijdveld | C8: Leunhekwerk bovenbuis (verzinkt) | J8: 23254.49
A9: VV Mifano | B9: Veld 1 - Natuurgras wedstrijdveld | C9: Automatische beregening voetbal | J9: 32684.882
A10: VV Mifano | B10: Veld 2 - Natuurgras wedstrijdveld | C10: Lichte toplaag renovatie natuurgras | D10: Betreft het veld wat omgebouwd wordt naar kunstgras Raadsvoorstel maart 2026. Stond volgens extern berea gepland in 2027. | F10: 750000
A11: VV Mifano | B11: Veld 2 - Natuurgras wedstrijdveld | C11: Drainage voetbalveld
A12: VV Mifano | B12: Veld 2 - Natuurgras wedstrijdveld | C12: Doel voetbal (p-doel)
A13: VV Mifano | B13: Veld 2 - Natuurgras wedstrijdveld | C13: Trainingsdoelen (verplaatsbaar), maat 7,32 x 2,44 m
A14: VV Mifano | B14: Veld 2 - Natuurgras wedstrijdveld | C14: Net ballenvanger
A15: VV Mifano | B15: Veld 2 - Natuurgras wedstrijdveld | C15: Automatische beregening voetbal
A16: VV Mifano | B16: Veld 2 - Natuurgras wedstrijdveld | C16: Verlichting masten, hoogte 15,00m
A17: VV Mifano | B17: Veld 2 - Natuurgras wedstrijdveld | C17: Verlichting, vervangen armatuur conventioneel > led
A18: VV Mifano | B18: Veld 3 - Natuurgras wedstrijdveld | C18: Lichte toplaag renovatie natuurgras | H18: 50688.358
A19: VV Mifano | B19: Veld 3 - Natuurgras wedstrijdveld | C19: Drainage voetbalveld | H19: 53581.774
A20: VV Mifano | B20: Veld 3 - Natuurgras wedstrijdveld | C20: Doel voetbal (p-doel) | H20: 6751.3035
A21: VV Mifano | B21: Veld 3 - Natuurgras wedstrijdveld | C21: Net ballenvanger | H21: 5036.6867
A22: VV Mifano | B22: Veld 4 - Natuurgras wedstrijdveld | C22: Net ballenvanger | G22: 5036.6867
A23: VV Mifano | B23: Veld 5 - Kuntgrasveld | C23: Toplaag kunstgras voetbal TPE | G23: 472162.59
A24: VV Mifano | B24: Veld 5 - Kuntgrasveld | C24: Foamlaag/schockpad | G24: 114450.67
A25: VV Mifano | B25: Veld 5 - Kuntgrasveld | C25: Sporttechnische laag voetbal e-bodemas | G25: 166532.15
A26: VV Mifano | B26: Veld 5 - Kuntgrasveld | C26: Zorgplicht; aanbrengen kantplanken | G26: 24754.779
A27: VV Mifano | B27: Veld 5 - Kuntgrasveld | C27: Zorgplicht; aanbrengen sluis-constructie bij spelerspoort | G27: 10502.028
A28: VV Mifano | B28: Veld 5 - Kuntgrasveld | C28: Zorgplicht; aanbrengen rooster bij werkpoort | G28: 9001.738
A29: VV Mifano | B29: Veld 5 - Kuntgrasveld | C29: Doel voetbal (kooidoel) | G29: 8680.2473
A30: VV Mifano | B30: Veld 5 - Kuntgrasveld | C30: Trainingsdoelen (verplaatsbaar), maat 7,32 x 2,44 m | G30: 12645.299
A31: VV Mifano | B31: Veld 5 - Kuntgrasveld | C31: Net ballenvanger | G31: 5036.6867
A32: VV Mifano | B32: Natuurgras oefenhoek | C32: Lichte toplaag renovatie natuurgras | G32: 37614.405
A33: VV Mifano | B33: Natuurgras oefenhoek | C33: Trainingsdoelen (verplaatsbaar), maat 7,32 x 2,44 m | G33: 12645.299
... A35: VV Mifano | B35: Natuurgras oefenhoek | C35: Verlichting, vervangen armatuur conventioneel > led | G35: 15110.06
E36: =SUM(E3:E35) -> 0 | F36: =SUM(F3:F35) -> 750000 | G36: =SUM(G3:G35) -> 921178.17 | H36: =SUM(H3:H35) -> 116058.12 | I36: =SUM(I3:I35) -> 0 | J36: =SUM(J3:J35) -> 197823.91

Sheet Oudven
A2: Vereniging | B2: Omschrijving | C2: Onderdeel | D2: Opmerkingen | E2: 2025 | F2: 2026 | G2: 2027 | H2: 2028 | I2: 2029 | J2: 2030
A3: Hockeyclub Mierlo | B3: Veld 3 - Kunstgrasveld semi-waterveld | C3: Toplaag kunstgras hockey semi-waterveld naar dry-hockey | D3: Reeds opgenomen in de begroting | F3: 765000
A4: Hockeyclub Mierlo | B4: Veld 3 - Kunstgrasveld semi-waterveld | C4: Foamlaag/Shockpad hockey semi-waterveld
A5: Hockeyclub Mierlo | B5: Veld 3 - Kunstgrasveld semi-waterveld | C5: Sporttechnische laag lava/rubber hockey semi-waterveld
A6: Hockeyclub Mierlo | B6: Veld 3 - Kunstgrasveld semi-waterveld | C6: Hockeydoel
A7: Hockeyclub Mierlo | B7: Veld 3 - Kunstgrasveld semi-waterveld | C7: Verplaatsbaardoel hockey
A8: Loopersgroep Mierlo | B8: Renbaan | C8: Asfaltverharding | G8: 74478.665
A9: Loopersgroep Mierlo | B9: Renbaan | C9: Fundering asfaltverharding | G9: 23040.163
E10: =SUM(E3:E9) -> 0 | F10: =SUM(F3:F9) -> 765000 | G10: =SUM(G3:G9) -> 97518.828 | H10: =SUM(H3:H9) -> 0 | I10: =SUM(I3:I9) -> 0 | J10: =SUM(J3:J9) -> 0

Sheet Kievit
A2: Vereniging | B2: Omschrijving | C2: Onderdeel | D2: Opmerkingen | E2: 2025 | F2: 2026 | G2: 2027 | H2: 2028 | I2: 2029 | J2: 2030
A3: VV Geldrop | B3: Veld 1 - Kunstgrasveld | C3: Toplaag kunstgras voetbal TPE | G3: 0 | H3: 0 | I3: 537853.84 | J3: 0
A4: VV Geldrop | B4: Veld 1 - Kunstgrasveld | C4: Foamlaag/schockpad | G4: 0 | H4: 0 | I4: 130418.04 | J4: 0
A5: VV Geldrop | B5: Veld 1 - Kunstgrasveld | C5: Zorgplicht; aanbrengen kantplanken | G5: 0 | H5: 0 | I5: 26147.906 | J5: 0
A6: VV Geldrop | B6: Veld 1 - Kunstgrasveld | C6: Zorgplicht; aanbrengen sluis-constructie bij spelerspoort | G6: 0 | H6: 0 | I6: 3536.3971 | J6: 0
A7: VV Geldrop | B7: Veld 1 - Kunstgrasveld | C7: Zorgplicht; aanbrengen rooster bij werkpoort | G7: 0 | H7: 0 | I7: 9001.738 | J7: 0
A8: VV Geldrop | B8: Veld 1 - Kunstgrasveld | C8: Doel voetbal (p-doel) | G8: 0 | H8: 0 | I8: 6751.3035 | J8: 0
A9: VV Geldrop | B9: Veld 1 - Kunstgrasveld | C9: Klap-doel pupillen | G9: 0 | H9: 0 | I9: 13502.607 | J9: 0
A10: VV Geldrop | B10: Veld 1 - Kunstgrasveld | C10: Net ballenvanger | D10: Wordt bekostigd uit regulier budget | G10: 0 | H10: 0 | I10: 0 | J10: 0
A11: VV Geldrop | B11: Veld 3 - kunstgrasveld | C11: Toplaag kunstgras voetbal TPE | G11: 0 | H11: 0 | I11: 0 | J11: 472162.59
A12: VV Geldrop | B12: Veld 3 - kunstgrasveld | C12: Foamlaag/schockpad | G12: 0 | H12: 0 | I12: 0 | J12: 114450.67
A13: VV Geldrop | B13: Veld 3 - kunstgrasveld | C13: Sporttechnische laag voetbal lava | G13: 0 | H13: 0 | I13: 0 | J13: 176498.36
A14: VV Geldrop | B14: Veld 3 - kunstgrasveld | C14: Zorgplicht; aanbrengen kantplanken | G14: 0 | H14: 0 | I14: 0 | J14: 24754.779
A15: VV Geldrop | B15: Veld 3 - kunstgrasveld | C15: Zorgplicht; aanbrengen sluis-constructie bij spelerspoort | G15: 0 | H15: 0 | I15: 0 | J15: 7072.7941
A16: VV Geldrop | B16: Veld 3 - kunstgrasveld | C16: Zorgplicht; aanbrengen rooster bij werkpoort | G16: 0 | H16: 0 | I16: 0 | J16: 4500.869
A17: VV Geldrop | B17: Veld 3 - kunstgrasveld | C17: Doel voetbal (p-doel) | G17: 0 | H17: 0 | I17: 0 | J17: 6751.3035
A18: VV Geldrop | B18: Veld 3 - kunstgrasveld | C18: Kalp-doel pupillen | G18: 0 | H18: 0 | I18: 0 | J18: 13502.607
A19: VV Geldrop | B19: Veld 3 - kunstgrasveld | C19: Leunhekwerk staafmat (gecoat) | G19: 0 | H19: 0 | I19: 0 | J19: 17574.822
A20: VV Geldrop | B20: Veld 3 - kunstgrasveld | C20: Hekwerk 2,00m staafmat (gecoat) | G20: 0 | H20: 0 | I20: 0 | J20: 12002.317
A21: VV Geldrop | B21: Veld 3 - kunstgrasveld | C21: Ballenvanger gecoat hoogte: 5,00m (2,00m staafmat 3,00m net) | G21: 0 | H21: 0 | I21: 0 | J21: 46401.816
A22: VV Geldrop | B22: Veld 3 - kunstgrasveld | C22: Net ballenvanger | G22: 0 | H22: 0 | I22: 0 | J22: 6858.467
... A26: VV Geldrop | B26: Veld 4 - Natuurgras trainingsveld | C26: Verlichting, vervangen armatuur conventioneel > led | G26: 22718.672 | H26: 0 | I26: 0 | J26: 0
A27: VV Geldrop | B27: Veld 5 - Natuurgras wedstrijdveld | C27: Doel voetbal (p-doel) | D27: Wordt bekostigd uit regulier budget | G27: 0 | H27: 0 | I27: 0 | J27: 0
A28: VV Geldrop | B28: Veld 5 - Natuurgras wedstrijdveld | C28: Lichte toplaag renovatie natuurgras | G28: 0 | H28: 0 | I28: 0 | J28: 50688.358
A29: VV Geldrop | B29: Veld 5 - Natuurgras wedstrijdveld | C29: Drainage voetbalveld | G29: 0 | H29: 0 | I29: 0 | J29: 53581.774
A30: VV Geldrop | B30: Veld 5 - Natuurgras wedstrijdveld | C30: Dug out 3,00m polycarbonaat | G30: 0 | H30: 0 | I30: 0 | J30: 15753.041
A31: VV Geldrop | B31: Veld 5 - Natuurgras wedstrijdveld | C31: Leunhekwerk bovenbuis (verzinkt) | G31: 0 | H31: 0 | I31: 0 | J31: 3643.5606
A32: VV Geldrop | B32: Veld 5 - Natuurgras wedstrijdveld | C32: Ballenvanger gecoat hoogtel 6,00m (2,00m staafmat 4,00m net) | G32: 0 | H32: 0 | I32: 0 | J32: 27326.705
A33: VV Geldrop | B33: Veld 5 - Natuurgras wedstrijdveld | C33: Net ballenvanger | G33: 0 | H33: 0 | I33: 0 | J33: 5036.6867
A34: VV Geldrop | B34: Veld 5 - Natuurgras wedstrijdveld | C34: Automatische beregening voetbal | G34: 0 | H34: 0 | I34: 0 | J34: 32470.555
A35: VV Geldrop | B35: Veld 6 - Kunstgrasveld | C35: Toplaag kunstgras voetbal TPE | G35: 0 | H35: 0 | I35: 472162.59 | J35: 0
A36: VV Geldrop | B36: Veld 6 - Kunstgrasveld | C36: Foamlaag/schockpad | G36: 0 | H36: 0 | I36: 114450.67 | J36: 0
A37: VV Geldrop | B37: Veld 6 - Kunstgrasveld | C37: Sporttechnische laag voetbal lava | G37: 0 | H37: 0 | I37: 129882.22 | J37: 0
A38: VV Geldrop | B38: Veld 6 - Kunstgrasveld | C38: Zorgplicht; aanbrengen kantplanken | G38: 0 | H38: 0 | I38: 24754.779 | J38: 0
A39: VV Geldrop | B39: Veld 6 - Kunstgrasveld | C39: Zorgplicht; aanbrengen sluis-constructie bij spelerspoort | G39: 0 | H39: 0 | I39: 3536.3971 | J39: 0
... A61: VV Geldrop | B61: Kunstgrasveld oefenhoek | C61: Net ballenvanger | G61: 0 | H61: 0 | I61: 0 | J61: 3214.9064
E62: =SUM(E3:E47) -> 0 | F62: =SUM(F3:F47) -> 0 | G62: =SUM(G3:G47) -> 55082.063 | H62: =SUM(H3:H47) -> 0 | I62: =SUM(I3:I47) -> 1627278.9 | J62: =SUM(J3:J61) -> 2205640.1

Sheet Kervel
A2: Vereniging | B2: Omschrijving | C2: Onderdeel | D2: Opmerking | E2: 2025 | F2: 2026 | G2: 2027 | H2: 2028 | I2: 2029
A3: TML Dommelstreek | B3: Wielerbaan | C3: Asfaltverharding | D3: Staat volgens het extern bereau gepland in 2026, echter verplaats naar 2027. | G3: 211433.68
A4: TML Dommelstreek | B4: Wielerbaan | C4: Fundering asfaltverharding | G4: 65262.6
A5: TML Dommelstreek | B5: Wielerbaan | C5: Onderbouw asfaltverharding | G5: 129882.22
A6: TML Dommelstreek | B6: Wielerbaan | C6: Elementenverharding wielerbaan | G6: 44687.199
A7: TML Dommelstreek | B7: Wielerbaan | C7: Onderbouw elementenvarhadring wielerbaan | G7: 42008.111
A8: TML Dommelstreek | B8: Wielerbaan | C8: Leunhekwerk staafmat (verzinkt) | G8: 4286.5419
A9: TML Dommelstreek | B9: Wielerbaan | C9: Leunhekwerk gaas (verzinkt) | G9: 1928.9439
E10: 0 | F10: 0 | G10: =SUM(G3:G9) -> 499489.29 | H10: 0 | I10: 0

Sheet Ornithos
A2: Vereniging | B2: Omschrijving | C2: Onderdeel | D2: 2025 | E2: 2026 | F2: 2027 | G2: 2028 | H2: 2029
A3: Modelvliegtuigclub | B3: Natuurgrasveld | C3: Renovatie grasveld | H3: 40507.821
C4: Drainage natuurgrasveld | H4: 71692.413
D5: - | E5: - | F5: - | G5: - | H5: =SUM(H3:H4) -> 112200.23

Sheet Overige
A1: Berekening kapitaallasten lineair | J1: Berekening kapitaallasten lineair
A3: Investeringsbedrag ex btw | B3: 100000 | D3: Aanschaf tractor | J3: Investeringsbedrag ex btw | K3: 50000 | M3: Aanschaf kunstgrasreiniger
A4: rente % | B4: 0.011 | J4: rente % | K4: 0.011
A5: afschrijvingstermijn | B5: 10 | J5: afschrijvingstermijn | K5: 15
A8: verloop rente en afschrijving | B8: boekwaarde 1/1 | C8: rente | D8: afschrijving | E8: boekwaarde 31/12 | F8: kapitaallasten | J8: verloop rente en afschrijving | K8: boekwaarde 1/1 | L8: rente | M8: afschrijving | N8: boekwaarde 31/12 | O8: kapitaallasten
A9: jaar 1 | B9: =B3 -> 100000 | C9: =ROUND(B9*$B$4,2) -> 1100 | D9: =+IF(B9>0,$B$3/$B$5,0) -> 10000 | E9: =B9-D9 -> 90000 | F9: =ROUND(C9+D9,0) -> 11100 | J9: jaar 1 | K9: =K3 -> 50000 | L9: =ROUND(K9*$K$4,2) -> 550 | M9: =+IF(K9>0,$K$3/$K$5,0) -> 3333.3333 | N9: =K9-M9 -> 46666.667 | O9: =ROUND(L9+M9,0) -> 3883
A10: jaar 2 | B10: =E9 -> 90000 | C10: =ROUND(B10*$B$4,2) -> 990 | D10: =+IF(B10>0,$B$3/$B$5,0) -> 10000 | E10: =B10-D10 -> 80000 | F10: =ROUND(C10+D10,0) -> 10990 | J10: jaar 2 | K10: =N9 -> 46666.667 | L10: =ROUND(K10*$B$4,2) -> 513.33 | M10: =+IF(K10>0,$K$3/$K$5,0) -> 3333.3333 | N10: =K10-M10 -> 43333.333 | O10: =ROUND(L10+M10,0) -> 3847
A11: jaar 3 | B11: =E10 -> 80000 | C11: =ROUND(B11*$B$4,2) -> 880 | D11: =+IF(B11>0,$B$3/$B$5,0) -> 10000 | E11: =B11-D11 -> 70000 | F11: =ROUND(C11+D11,0) -> 10880 | J11: jaar 3 | K11: =N10 -> 43333.333 | L11: =ROUND(K11*$B$4,2) -> 476.67 | M11: =+IF(K11>0,$K$3/$K$5,0) -> 3333.3333 | N11: =K11-M11 -> 40000 | O11: =ROUND(L11+M11,0) -> 3810
A12: jaar 4 | B12: =E11 -> 70000 | C12: =ROUND(B12*$B$4,2) -> 770 | D12: =+IF(B12>0,$B$3/$B$5,0) -> 10000 | E12: =B12-D12 -> 60000 | F12: =ROUND(C12+D12,0) -> 10770 | J12: jaar 4 | K12: =N11 -> 40000 | L12: =ROUND(K12*$B$4,2) -> 440 | M12: =+IF(K12>0,$K$3/$K$5,0) -> 3333.3333 | N12: =K12-M12 -> 36666.667 | O12: =ROUND(L12+M12,0) -> 3773
A13: jaar 5 | B13: =E12 -> 60000 | C13: =ROUND(B13*$B$4,2) -> 660 | D13: =+IF(B13>0,$B$3/$B$5,0) -> 10000 | E13: =B13-D13 -> 50000 | F13: =ROUND(C13+D13,0) -> 10660 | J13: jaar 5 | K13: =N12 -> 36666.667 | L13: =ROUND(K13*$B$4,2) -> 403.33 | M13: =+IF(K13>0,$K$3/$K$5,0) -> 3333.3333 | N13: =K13-M13 -> 33333.333 | O13: =ROUND(L13+M13,0) -> 3737
A14: jaar 6 | B14: =E13 -> 50000 | C14: =ROUND(B14*$B$4,2) -> 550 | D14: =+IF(B14>0,$B$3/$B$5,0) -> 10000 | E14: =B14-D14 -> 40000 | F14: =ROUND(C14+D14,0) -> 10550 | J14: jaar 6 | K14: =N13 -> 33333.333 | L14: =ROUND(K14*$B$4,2) -> 366.67 | M14: =+IF(K14>0,$K$3/$K$5,0) -> 3333.3333 | N14: =K14-M14 -> 30000 | O14: =ROUND(L14+M14,0) -> 3700
A15: jaar 7 | B15: =E14 -> 40000 | C15: =ROUND(B15*$B$4,2) -> 440 | D15: =+IF(B15>0,$B$3/$B$5,0) -> 10000 | E15: =B15-D15 -> 30000 | F15: =ROUND(C15+D15,0) -> 10440 | J15: jaar 7 | K15: =N14 -> 30000 | L15: =ROUND(K15*$B$4,2) -> 330 | M15: =+IF(K15>0,$K$3/$K$5,0) -> 3333.3333 | N15: =K15-M15 -> 26666.667 | O15: =ROUND(L15+M15,0) -> 3663
A16: jaar 8 | B16: =E15 -> 30000 | C16: =ROUND(B16*$B$4,2) -> 330 | D16: =+IF(B16>0,$B$3/$B$5,0) -> 10000 | E16: =B16-D16 -> 20000 | F16: =ROUND(C16+D16,0) -> 10330 | J16: jaar 8 | K16: =N15 -> 26666.667 | L16: =ROUND(K16*$B$4,2) -> 293.33 | M16: =+IF(K16>0,$K$3/$K$5,0) -> 3333.3333 | N16: =K16-M16 -> 23333.333 | O16: =ROUND(L16+M16,0) -> 3627
A17: jaar 9 | B17: =E16 -> 20000 | C17: =ROUND(B17*$B$4,2) -> 220 | D17: =+IF(B17>0,$B$3/$B$5,0) -> 10000 | E17: =B17-D17 -> 10000 | F17: =ROUND(C17+D17,0) -> 10220 | J17: jaar 9 | K17: =N16 -> 23333.333 | L17: =ROUND(K17*$B$4,2) -> 256.67 | M17: =+IF(K17>0,$K$3/$K$5,0) -> 3333.3333 | N17: =K17-M17 -> 20000 | O17: =ROUND(L17+M17,0) -> 3590
A18: jaar 10 | B18: =E17 -> 10000 | C18: =ROUND(B18*$B$4,2) -> 110 | D18: =+IF(B18>0,$B$3/$B$5,0) -> 10000 | E18: =B18-D18 -> 0 | F18: =ROUND(C18+D18,0) -> 10110 | J18: jaar 10 | K18: =N17 -> 20000 | L18: =ROUND(K18*$B$4,2) -> 220 | M18: =+IF(K18>0,$K$3/$K$5,0) -> 3333.3333 | N18: =K18-M18 -> 16666.667 | O18: =ROUND(L18+M18,0) -> 3553
A19: jaar 11 | B19: =E18 -> 0 | C19: =ROUND(B19*$B$4,2) -> 0 | D19: =+IF(B19>0,$B$3/$B$5,0) -> 0 | E19: =B19-D19 -> 0 | F19: =ROUND(C19+D19,0) -> 0 | J19: jaar 11 | K19: =N18 -> 16666.667 | L19: =ROUND(K19*$B$4,2) -> 183.33 | M19: =+IF(K19>0,$K$3/$K$5,0) -> 3333.3333 | N19: =K19-M19 -> 13333.333 | O19: =ROUND(L19+M19,0) -> 3517
A20: jaar 12 | B20: =E19 -> 0 | C20: =ROUND(B20*$B$4,2) -> 0 | D20: =+IF(B20>0,$B$3/$B$5,0) -> 0 | E20: =B20-D20 -> 0 | F20: =ROUND(C20+D20,0) -> 0 | J20: jaar 12 | K20: =N19 -> 13333.333 | L20: =ROUND(K20*$B$4,2) -> 146.67 | M20: =+IF(K20>0,$K$3/$K$5,0) -> 3333.3333 | N20: =K20-M20 -> 10000 | O20: =ROUND(L20+M20,0) -> 3480
A21: jaar 13 | B21: =E20 -> 0 | C21: =ROUND(B21*$B$4,2) -> 0 | D21: =+IF(B21>0,$B$3/$B$5,0) -> 0 | E21: =B21-D21 -> 0 | F21: =ROUND(C21+D21,0) -> 0 | J21: jaar 13 | K21: =N20 -> 10000 | L21: =ROUND(K21*$B$4,2) -> 110 | M21: =+IF(K21>0,$K$3/$K$5,0) -> 3333.3333 | N21: =K21-M21 -> 6666.6667 | O21: =ROUND(L21+M21,0) -> 3443
... A28: jaar 20 | B28: =E27 -> 0 | C28: =ROUND(B28*$B$4,2) -> 0 | D28: =+IF(B28>0,$B$3/$B$5,0) -> 0 | E28: =B28-D28 -> 0 | F28: =ROUND(C28+D28,0) -> 0 | J28: jaar 20 | K28: =N27 -> -8.1854523e-12 | L28: =ROUND(K28*$B$4,2) -> 0 | M28: =+IF(K28>0,$K$3/$K$5,0) -> 0 | N28: =K28-M28 -> -8.1854523e-12 | O28: =ROUND(L28+M28,0) -> 0
A29: jaar 21 | B29: =E28 -> 0 | C29: =ROUND(B29*$B$4,2) -> 0 | D29: =+IF(B29>0,$B$3/$B$5,0) -> 0 | E29: =B29-D29 -> 0 | F29: =ROUND(C29+D29,0) -> 0 | J29: jaar 21 | K29: =N28 -> -8.1854523e-12 | L29: =ROUND(K29*$B$4,2) -> 0 | M29: =+IF(K29>0,$B$3/$B$5,0) -> 0 | N29: =K29-M29 -> -8.1854523e-12 | O29: =ROUND(L29+M29,0) -> 0
A30: jaar 22 | B30: =E29 -> 0 | C30: =ROUND(B30*$B$4,2) -> 0 | D30: =+IF(B30>0,$B$3/$B$5,0) -> 0 | E30: =B30-D30 -> 0 | F30: =ROUND(C30+D30,0) -> 0 | J30: jaar 22 | K30: =N29 -> -8.1854523e-12 | L30: =ROUND(K30*$B$4,2) -> 0 | M30: =+IF(K30>0,$B$3/$B$5,0) -> 0 | N30: =K30-M30 -> -8.1854523e-12 | O30: =ROUND(L30+M30,0) -> 0
A31: jaar 23 | B31: =E30 -> 0 | C31: =ROUND(B31*$B$4,2) -> 0 | D31: =+IF(B31>0,$B$3/$B$5,0) -> 0 | E31: =B31-D31 -> 0 | F31: =ROUND(C31+D31,0) -> 0 | J31: jaar 23 | K31: =N30 -> -8.1854523e-12 | L31: =ROUND(K31*$B$4,2) -> 0 | M31: =+IF(K31>0,$B$3/$B$5,0) -> 0 | N31: =K31-M31 -> -8.1854523e-12 | O31: =ROUND(L31+M31,0) -> 0
A32: jaar 24 | B32: =E31 -> 0 | C32: =ROUND(B32*$B$4,2) -> 0 | D32: =+IF(B32>0,$B$3/$B$5,0) -> 0 | E32: =B32-D32 -> 0 | F32: =ROUND(C32+D32,0) -> 0 | J32: jaar 24 | K32: =N31 -> -8.1854523e-12 | L32: =ROUND(K32*$B$4,2) -> 0 | M32: =+IF(K32>0,$B$3/$B$5,0) -> 0 | N32: =K32-M32 -> -8.1854523e-12 | O32: =ROUND(L32+M32,0) -> 0
A33: jaar 25 | B33: =E32 -> 0 | C33: =ROUND(B33*$B$4,2) -> 0 | D33: =+IF(B33>0,$B$3/$B$5,0) -> 0 | E33: =B33-D33 -> 0 | F33: =ROUND(C33+D33,0) -> 0 | J33: jaar 25 | K33: =N32 -> -8.1854523e-12 | L33: =ROUND(K33*$B$4,2) -> 0 | M33: =+IF(K33>0,$B$3/$B$5,0) -> 0 | N33: =K33-M33 -> -8.1854523e-12 | O33: =ROUND(L33+M33,0) -> 0
A34: jaar 26 | B34: =E33 -> 0 | C34: =ROUND(B34*$B$4,2) -> 0 | D34: =+IF(B34>0,$B$3/$B$5,0) -> 0 | E34: =B34-D34 -> 0 | F34: =ROUND(C34+D34,0) -> 0 | J34: jaar 26 | K34: =N33 -> -8.1854523e-12 | L34: =ROUND(K34*$B$4,2) -> 0 | M34: =+IF(K34>0,$B$3/$B$5,0) -> 0 | N34: =K34-M34 -> -8.1854523e-12 | O34: =ROUND(L34+M34,0) -> 0
A35: jaar 27 | B35: =E34 -> 0 | C35: =ROUND(B35*$B$4,2) -> 0 | D35: =+IF(B35>0,$B$3/$B$5,0) -> 0 | E35: =B35-D35 -> 0 | F35: =ROUND(C35+D35,0) -> 0 | J35: jaar 27 | K35: =N34 -> -8.1854523e-12 | L35: =ROUND(K35*$B$4,2) -> 0 | M35: =+IF(K35>0,$B$3/$B$5,0) -> 0 | N35: =K35-M35 -> -8.1854523e-12 | O35: =ROUND(L35+M35,0) -> 0
A36: jaar 28 | B36: =E35 -> 0 | C36: =ROUND(B36*$B$4,2) -> 0 | D36: =+IF(B36>0,$B$3/$B$5,0) -> 0 | E36: =B36-D36 -> 0 | F36: =ROUND(C36+D36,0) -> 0 | J36: jaar 28 | K36: =N35 -> -8.1854523e-12 | L36: =ROUND(K36*$B$4,2) -> 0 | M36: =+IF(K36>0,$B$3/$B$5,0) -> 0 | N36: =K36-M36 -> -8.1854523e-12 | O36: =ROUND(L36+M36,0) -> 0
A37: jaar 29 | B37: =E36 -> 0 | C37: =ROUND(B37*$B$4,2) -> 0 | D37: =+IF(B37>0,$B$3/$B$5,0) -> 0 | E37: =B37-D37 -> 0 | F37: =ROUND(C37+D37,0) -> 0 | J37: jaar 29 | K37: =N36 -> -8.1854523e-12 | L37: =ROUND(K37*$B$4,2) -> 0 | M37: =+IF(K37>0,$B$3/$B$5,0) -> 0 | N37: =K37-M37 -> -8.1854523e-12 | O37: =ROUND(L37+M37,0) -> 0
A38: jaar 30 | B38: =E37 -> 0 | C38: =ROUND(B38*$B$4,2) -> 0 | D38: =+IF(B38>0,$B$3/$B$5,0) -> 0 | E38: =B38-D38 -> 0 | F38: =ROUND(C38+D38,0) -> 0 | J38: jaar 30 | K38: =N37 -> -8.1854523e-12 | L38: =ROUND(K38*$B$4,2) -> 0 | M38: =+IF(K38>0,$B$3/$B$5,0) -> 0 | N38: =K38-M38 -> -8.1854523e-12 | O38: =ROUND(L38+M38,0) -> 0
A39: jaar 31 | B39: =E38 -> 0 | C39: =ROUND(B39*$B$4,2) -> 0 | D39: =+IF(B39>0,$B$3/$B$5,0) -> 0 | E39: =B39-D39 -> 0 | F39: =ROUND(C39+D39,0) -> 0 | J39: jaar 31 | K39: =N38 -> -8.1854523e-12 | L39: =ROUND(K39*$B$4,2) -> 0 | M39: =+IF(K39>0,$B$3/$B$5,0) -> 0 | N39: =K39-M39 -> -8.1854523e-12 | O39: =ROUND(L39+M39,0) -> 0
A40: jaar 32 | B40: =E39 -> 0 | C40: =ROUND(B40*$B$4,2) -> 0 | D40: =+IF(B40>0,$B$3/$B$5,0) -> 0 | E40: =B40-D40 -> 0 | F40: =ROUND(C40+D40,0) -> 0 | J40: jaar 32 | K40: =N39 -> -8.1854523e-12 | L40: =ROUND(K40*$B$4,2) -> 0 | M40: =+IF(K40>0,$B$3/$B$5,0) -> 0 | N40: =K40-M40 -> -8.1854523e-12 | O40: =ROUND(L40+M40,0) -> 0
... A58: jaar 50 | B58: =E57 -> 0 | C58: =ROUND(B58*$B$4,2) -> 0 | D58: =+IF(B58>0,$B$3/$B$5,0) -> 0 | E58: =B58-D58 -> 0 | F58: =ROUND(C58+D58,0) -> 0 | J58: jaar 50 | K58: =N57 -> -8.1854523e-12 | L58: =ROUND(K58*$B$4,2) -> 0 | M58: =+IF(K58>0,$B$3/$B$5,0) -> 0 | N58: =K58-M58 -> -8.1854523e-12 | O58: =ROUND(L58+M58,0) -> 0
