Workbook

Sheet Toelichting
A1: Toelichting op bestand
A3: Het bestand kent de volgende werkbladen:
A4: A-D - Totaalbeeld
A5: Hier staat het totale financiële beeld van A tot en met D. De uitkomst wordt automatisch bijgewerkt op basis van de actuele Ja/Nee-keuzes in de onderliggende werkbladen.
A6: B - AO bestaand beleid
A7: Hier zijn begrotingsaanpassingen binnen bestaand beleid opgenomen, waaronder noodzakelijke actualisaties, eerdere besluitvorming en posten waar nog bestuurlijke afwegingsruimte kan bestaan. De Ja/Nee-keuzes op dit werkblad werken direct door in het totaalbeeld en in het financiële verloop op de Bestuurlijke keuzelijst.
A8: C1 - Raadsprogramma
A9: Hier zijn de onderdelen uit categorie 3 (‘aanvullende middelen nodig’) van de vastgestelde reactiememo op het brede raadsprogramma opgenomen waarvoor een concrete financiële claim is opgenomen. Wijzigingen in de Ja/Nee-keuze werken direct door in het totaalbeeld en in de Bestuurlijke keuzelijst.
A10: C2 - Nieuw geld
A11: Hier staan aanvullende financiële aanvragen en eerdere toezeggingen/moties die niet rechtstreeks onderdeel zijn van B of C1. Wijzigingen in de Ja/Nee-keuze werken direct door in het totaalbeeld en in de Bestuurlijke keuzelijst.
A12: D - Ombuigingen
A13: Hier staan de ombuigingsmogelijkheden inclusief de inhoudelijke duiding, impact, risico’s en aandachtspunten. De Bestuurlijke keuzelijst biedt hiervoor het compacte bedienings- en bespreekoverzicht.
... A16: Het bestand kent in ieder tabblad een 'was' en een 'wordt'. De kolom 'was' bevat de bedragen zoals die ambtelijk zijn aangeleverd bij het college: vrijwel steeds een eerste inschatting. Het college heeft daar na doorvragen en na het maken van keuzes de kolom 'wordt' van gemaakt. De kolom 'wordt' is op dit moment het scenario dat het college heeft voorgelegd aan de raad. Door in ieder tabblad de kolom 'Meenemen' naar believen aan te passen, wijzigt het totaalbeeld. De kolom 'Meenemen' kent de keuzemogelijkheden 'Ja', 'Nee', 'Deels' en 'Verschuiven'. Met formules is het bij de keuzes 'Deels' en 'Verschuiven' mogelijk een percentage aan te geven (wanneer is gekozen voor deels) of een later startjaar (wanneer is gekozen voor 'verschuiven'). Bij een aantal regels is dat door het college gedaan en kun je zien hoe de systematiek werkt. Soms staat er 'AANGEPASTE BEDRAGEN IN KOLOM 'WORDT''. Dan werken de formules onder 'wordt' niet meer en dienen deze handmatig ingevuld te worden.

Sheet A-D - Totaalbeeld
A1: A-D - Bestuurlijk totaalbeeld financiële keuzes 2027–2030
A3: Financieel totaalbeeld | B3: 2027 | C3: 2028 | D3: 2029 | E3: 2030
A4: Begrotingssaldo na meicirculaire | B4: 1598933 | C4: -2500817 | D4: 681041 | E4: 2056104
A5: A. Autonome ontwikkelingen | B5: 508208 | C5: 108344 | D5: -819158 | E5: -1166102
A6: Begrotingssaldo bestaand beleid | B6: =SUM(B4:B5) -> 2107141 | C6: =SUM(C4:C5) -> -2392473 | D6: =SUM(D4:D5) -> -138117 | E6: =SUM(E4:E5) -> 890002
A7: B. Begrotingsaanpassingen bestaand beleid | B7: ='B - AO bestaand beleid'!K20 -> -3315099 | C7: ='B - AO bestaand beleid'!L20 -> -3532953 | D7: ='B - AO bestaand beleid'!M20 -> -3613827 | E7: ='B - AO bestaand beleid'!N20 -> -3890068
A8: C1. Geselecteerd raadsprogramma | B8: ='C1 - Raadsprogramma'!L18 -> -340000 | C8: ='C1 - Raadsprogramma'!M18 -> -335000 | D8: ='C1 - Raadsprogramma'!N18 -> -335000 | E8: ='C1 - Raadsprogramma'!O18 -> -235000
A9: C2. Geselecteerd nieuw geld | B9: ='C2 - Nieuw geld'!M26 -> -735274 | C9: ='C2 - Nieuw geld'!N26 -> -641865 | D9: ='C2 - Nieuw geld'!O26 -> -667827 | E9: ='C2 - Nieuw geld'!P26 -> -707790
A10: D. Geselecteerde ombuigingen | B10: ='D - Ombuigingen'!M93 -> 2599447 | C10: ='D - Ombuigingen'!N93 -> 5777239 | D10: ='D - Ombuigingen'!O93 -> 4752204 | E10: ='D - Ombuigingen'!P93 -> 4464253
A11: Resultaat na huidige selectie | B11: =B6+B7+B8+B9+B10 -> 316215 | C11: =C6+C7+C8+C9+C10 -> -1125052 | D11: =D6+D7+D8+D9+D10 -> -2567 | E11: =E6+E7+E8+E9+E10 -> 521397

Sheet B - AO bestaand beleid
A1: B - Begrotingsaanpassingen bestaand beleid
A2: -/- (negatief) bedrag betekent verslechtering begrotingssaldo, +/+ (positief) bedrag betekent verbetering begrotingssaldo
F3: WAS | K3: WORDT
A4: Programma | B4: Opdracht / keuze | C4: Wat verandert er? | D4: Meenemen? | E4: Deels/ Verschuiven | F4: 2027 | G4: 2028 | H4: 2029 | I4: 2030 | J4: .. | K4: 2027 | L4: 2028 | M4: 2029 | N4: 2030
A5: Programma 1 | B5: 1. Sociaal domein | C5: Afkomstig uit jaarrekening 2025 | D5: Ja | F5: -2203000 | G5: -2203000 | H5: -2203000 | I5: -2203000 | K5: =IF($D5="Ja",SUM(F5), IF($D5="Deels",$E5*F5, IF($D5="Verschuiven", IF($E5=2028,"",IF($E5=2029,"",IF($E5=2030,"",""))), IF($D5="Nee","","Nakijken")))) -> -2203000 | L5: =IF($D5="Ja",SUM(G5), IF($D5="Deels",$E5*G5, IF($D5="Verschuiven", IF($E5=2028,F5,IF($E5=2029,"",IF($E5=2030,"",""))), IF($D5="Nee","","Nakijken")))) -> -2203000 | M5: =IF($D5="Ja",SUM(H5), IF($D5="Deels",$E5*H5, IF($D5="Verschuiven", IF($E5=2028,G5,IF($E5=2029,F5,IF($E5=2030,"",""))), IF($D5="Nee","","Nakijken")))) -> -2203000 | N5: =IF($D5="Ja",SUM(I5), IF($D5="Deels",$E5*I5, IF($D5="Verschuiven", IF($E5=2028,H5,IF($E5=2029,G5,IF($E5=2030,F5,""))), IF($D5="Nee","","Nakijken")))) -> -2203000
A6: Programma 1 | B6: 2. Leerlingenvervoer | C6: Dit is de uitkomst uit de aanbesteding voor leerlingenvervoer. | D6: Ja | F6: -114000 | G6: -114000 | H6: -114000 | I6: -114000 | K6: =IF($D6="Ja",SUM(F6), IF($D6="Deels",$E6*F6, IF($D6="Verschuiven", IF($E6=2028,"",IF($E6=2029,"",IF($E6=2030,"",""))), IF($D6="Nee","","Nakijken")))) -> -114000 | L6: =IF($D6="Ja",SUM(G6), IF($D6="Deels",$E6*G6, IF($D6="Verschuiven", IF($E6=2028,F6,IF($E6=2029,"",IF($E6=2030,"",""))), IF($D6="Nee","","Nakijken")))) -> -114000 | M6: =IF($D6="Ja",SUM(H6), IF($D6="Deels",$E6*H6, IF($D6="Verschuiven", IF($E6=2028,G6,IF($E6=2029,F6,IF($E6=2030,"",""))), IF($D6="Nee","","Nakijken")))) -> -114000 | N6: =IF($D6="Ja",SUM(I6), IF($D6="Deels",$E6*I6, IF($D6="Verschuiven", IF($E6=2028,H6,IF($E6=2029,G6,IF($E6=2030,F6,""))), IF($D6="Nee","","Nakijken")))) -> -114000
A7: Programma 1 | B7: 3. Sportcafe de Kievit | C7: Er wordt een maatschappelijk alternatief georganiseerd voor het uitbaten van de horeca. Bedrag is gelijk gehouden aan het bedrag voor sportcafe de Weijer. | D7: Ja | F7: -40000 | G7: -40000 | H7: -40000 | I7: -40000 | K7: =IF($D7="Ja",SUM(F7), IF($D7="Deels",$E7*F7, IF($D7="Verschuiven", IF($E7=2028,"",IF($E7=2029,"",IF($E7=2030,"",""))), IF($D7="Nee","","Nakijken")))) -> -40000 | L7: =IF($D7="Ja",SUM(G7), IF($D7="Deels",$E7*G7, IF($D7="Verschuiven", IF($E7=2028,F7,IF($E7=2029,"",IF($E7=2030,"",""))), IF($D7="Nee","","Nakijken")))) -> -40000 | M7: =IF($D7="Ja",SUM(H7), IF($D7="Deels",$E7*H7, IF($D7="Verschuiven", IF($E7=2028,G7,IF($E7=2029,F7,IF($E7=2030,"",""))), IF($D7="Nee","","Nakijken")))) -> -40000 | N7: =IF($D7="Ja",SUM(I7), IF($D7="Deels",$E7*I7, IF($D7="Verschuiven", IF($E7=2028,H7,IF($E7=2029,G7,IF($E7=2030,F7,""))), IF($D7="Nee","","Nakijken")))) -> -40000
A8: Programma 1 | B8: 4. Bijdrage GR 10vdJeugd | C8: Nieuwe bijdrage aan GR | D8: Ja | F8: -91786 | G8: -91786 | H8: -91786 | I8: -91786 | K8: =IF($D8="Ja",SUM(F8), IF($D8="Deels",$E8*F8, IF($D8="Verschuiven", IF($E8=2028,"",IF($E8=2029,"",IF($E8=2030,"",""))), IF($D8="Nee","","Nakijken")))) -> -91786 | L8: =IF($D8="Ja",SUM(G8), IF($D8="Deels",$E8*G8, IF($D8="Verschuiven", IF($E8=2028,F8,IF($E8=2029,"",IF($E8=2030,"",""))), IF($D8="Nee","","Nakijken")))) -> -91786 | M8: =IF($D8="Ja",SUM(H8), IF($D8="Deels",$E8*H8, IF($D8="Verschuiven", IF($E8=2028,G8,IF($E8=2029,F8,IF($E8=2030,"",""))), IF($D8="Nee","","Nakijken")))) -> -91786 | N8: =IF($D8="Ja",SUM(I8), IF($D8="Deels",$E8*I8, IF($D8="Verschuiven", IF($E8=2028,H8,IF($E8=2029,G8,IF($E8=2030,F8,""))), IF($D8="Nee","","Nakijken")))) -> -91786
A9: Programma 1 | B9: 5. Verduurzamingsplan bestaand gemeentelijk vastgoed 2027 | C9: Reeds besloten in de raad: Document GeldropMierlo - RV GM2026-2733151 Benodigd budget uitvoering verduurzamingsplan - CO2-routekaart bestaand gemeentelijk vastgoed | D9: Ja | F9: 0 | G9: -37730 | H9: -37268 | I9: -36806 | K9: =IF($D9="Ja",SUM(F9), IF($D9="Deels",$E9*F9, IF($D9="Verschuiven", IF($E9=2028,"",IF($E9=2029,"",IF($E9=2030,"",""))), IF($D9="Nee","","Nakijken")))) -> 0 | L9: =IF($D9="Ja",SUM(G9), IF($D9="Deels",$E9*G9, IF($D9="Verschuiven", IF($E9=2028,F9,IF($E9=2029,"",IF($E9=2030,"",""))), IF($D9="Nee","","Nakijken")))) -> -37730 | M9: =IF($D9="Ja",SUM(H9), IF($D9="Deels",$E9*H9, IF($D9="Verschuiven", IF($E9=2028,G9,IF($E9=2029,F9,IF($E9=2030,"",""))), IF($D9="Nee","","Nakijken")))) -> -37268 | N9: =IF($D9="Ja",SUM(I9), IF($D9="Deels",$E9*I9, IF($D9="Verschuiven", IF($E9=2028,H9,IF($E9=2029,G9,IF($E9=2030,F9,""))), IF($D9="Nee","","Nakijken")))) -> -36806
A10: Programma 1 | B10: 5. Verduurzamingsplan bestaand gemeentelijk vastgoed 2028 | C10: Reeds besloten in de raad: Document GeldropMierlo - RV GM2026-2733151 Benodigd budget uitvoering verduurzamingsplan - CO2-routekaart bestaand gemeentelijk vastgoed | D10: Ja | F10: 0 | G10: 0 | H10: -38370 | I10: -37900 | K10: =IF($D10="Ja",SUM(F10), IF($D10="Deels",$E10*F10, IF($D10="Verschuiven", IF($E10=2028,"",IF($E10=2029,"",IF($E10=2030,"",""))), IF($D10="Nee","","Nakijken")))) -> 0 | L10: =IF($D10="Ja",SUM(G10), IF($D10="Deels",$E10*G10, IF($D10="Verschuiven", IF($E10=2028,F10,IF($E10=2029,"",IF($E10=2030,"",""))), IF($D10="Nee","","Nakijken")))) -> 0 | M10: =IF($D10="Ja",SUM(H10), IF($D10="Deels",$E10*H10, IF($D10="Verschuiven", IF($E10=2028,G10,IF($E10=2029,F10,IF($E10=2030,"",""))), IF($D10="Nee","","Nakijken")))) -> -38370 | N10: =IF($D10="Ja",SUM(I10), IF($D10="Deels",$E10*I10, IF($D10="Verschuiven", IF($E10=2028,H10,IF($E10=2029,G10,IF($E10=2030,F10,""))), IF($D10="Nee","","Nakijken")))) -> -37900
A11: Programma 1 | B11: 5. Verduurzamingsplan bestaand gemeentelijk vastgoed 2029 | C11: Reeds besloten in de raad: Document GeldropMierlo - RV GM2026-2733151 Benodigd budget uitvoering verduurzamingsplan - CO2-routekaart bestaand gemeentelijk vastgoed | D11: Ja | F11: 0 | G11: 0 | H11: 0 | I11: -39022 | K11: =IF($D11="Ja",SUM(F11), IF($D11="Deels",$E11*F11, IF($D11="Verschuiven", IF($E11=2028,"",IF($E11=2029,"",IF($E11=2030,"",""))), IF($D11="Nee","","Nakijken")))) -> 0 | L11: =IF($D11="Ja",SUM(G11), IF($D11="Deels",$E11*G11, IF($D11="Verschuiven", IF($E11=2028,F11,IF($E11=2029,"",IF($E11=2030,"",""))), IF($D11="Nee","","Nakijken")))) -> 0 | M11: =IF($D11="Ja",SUM(H11), IF($D11="Deels",$E11*H11, IF($D11="Verschuiven", IF($E11=2028,G11,IF($E11=2029,F11,IF($E11=2030,"",""))), IF($D11="Nee","","Nakijken")))) -> 0 | N11: =IF($D11="Ja",SUM(I11), IF($D11="Deels",$E11*I11, IF($D11="Verschuiven", IF($E11=2028,H11,IF($E11=2029,G11,IF($E11=2030,F11,""))), IF($D11="Nee","","Nakijken")))) -> -39022
A12: Programma 1 | B12: 5. Verduurzamingsplan bestaand gemeentelijk vastgoed 2030 | C12: Reeds besloten in de raad: Document GeldropMierlo - RV GM2026-2733151 Benodigd budget uitvoering verduurzamingsplan - CO2-routekaart bestaand gemeentelijk vastgoed | D12: Ja | F12: 0 | G12: 0 | H12: 0 | I12: 0 | K12: =IF($D12="Ja",SUM(F12), IF($D12="Deels",$E12*F12, IF($D12="Verschuiven", IF($E12=2028,"",IF($E12=2029,"",IF($E12=2030,"",""))), IF($D12="Nee","","Nakijken")))) -> 0 | L12: =IF($D12="Ja",SUM(G12), IF($D12="Deels",$E12*G12, IF($D12="Verschuiven", IF($E12=2028,F12,IF($E12=2029,"",IF($E12=2030,"",""))), IF($D12="Nee","","Nakijken")))) -> 0 | M12: =IF($D12="Ja",SUM(H12), IF($D12="Deels",$E12*H12, IF($D12="Verschuiven", IF($E12=2028,G12,IF($E12=2029,F12,IF($E12=2030,"",""))), IF($D12="Nee","","Nakijken")))) -> 0 | N12: =IF($D12="Ja",SUM(I12), IF($D12="Deels",$E12*I12, IF($D12="Verschuiven", IF($E12=2028,H12,IF($E12=2029,G12,IF($E12=2030,F12,""))), IF($D12="Nee","","Nakijken")))) -> 0
A13: Programma 2 | B13: 1. MJIP Buitensportaccommodaties | C13: Planning van benodigde investeringen in buitensportaccomodaties wordt met raadsvoorstel in dezelfde cyclus als de begroting aan de raad voorgelegd. Financiele impact is niet verwerkt in voorstel, maar daarvoor is naar begroting verwezen. | D13: Ja | F13: 0 | G13: -145434 | H13: -170537 | I13: -357586 | K13: =IF($D13="Ja",SUM(F13), IF($D13="Deels",$E13*F13, IF($D13="Verschuiven", IF($E13=2028,"",IF($E13=2029,"",IF($E13=2030,"",""))), IF($D13="Nee","","Nakijken")))) -> 0 | L13: =IF($D13="Ja",SUM(G13), IF($D13="Deels",$E13*G13, IF($D13="Verschuiven", IF($E13=2028,F13,IF($E13=2029,"",IF($E13=2030,"",""))), IF($D13="Nee","","Nakijken")))) -> -145434 | M13: =IF($D13="Ja",SUM(H13), IF($D13="Deels",$E13*H13, IF($D13="Verschuiven", IF($E13=2028,G13,IF($E13=2029,F13,IF($E13=2030,"",""))), IF($D13="Nee","","Nakijken")))) -> -170537 | N13: =IF($D13="Ja",SUM(I13), IF($D13="Deels",$E13*I13, IF($D13="Verschuiven", IF($E13=2028,H13,IF($E13=2029,G13,IF($E13=2030,F13,""))), IF($D13="Nee","","Nakijken")))) -> -357586
A14: Programma 2 | B14: 2. MJOP Buitensportaccommodaties | C14: Planning van benodigd onderhoud in buitensportaccomodaties wordt met raadsvoorstel in dezelfde cyclus als de begroting aan de raad voorgelegd. Financiele impact is niet verwerkt in voorstel, maar daarvoor is naar begroting verwezen. | D14: Ja | F14: -136950 | G14: -177400 | H14: -217851 | I14: -258301 | K14: =IF($D14="Ja",SUM(F14), IF($D14="Deels",$E14*F14, IF($D14="Verschuiven", IF($E14=2028,"",IF($E14=2029,"",IF($E14=2030,"",""))), IF($D14="Nee","","Nakijken")))) -> -136950 | L14: =IF($D14="Ja",SUM(G14), IF($D14="Deels",$E14*G14, IF($D14="Verschuiven", IF($E14=2028,F14,IF($E14=2029,"",IF($E14=2030,"",""))), IF($D14="Nee","","Nakijken")))) -> -177400 | M14: =IF($D14="Ja",SUM(H14), IF($D14="Deels",$E14*H14, IF($D14="Verschuiven", IF($E14=2028,G14,IF($E14=2029,F14,IF($E14=2030,"",""))), IF($D14="Nee","","Nakijken")))) -> -217851 | N14: =IF($D14="Ja",SUM(I14), IF($D14="Deels",$E14*I14, IF($D14="Verschuiven", IF($E14=2028,H14,IF($E14=2029,G14,IF($E14=2030,F14,""))), IF($D14="Nee","","Nakijken")))) -> -258301
A15: Programma 2 | B15: 3. Sleutelplan sporthalbeheer | C15: De raad is hiervan op de hoogte gebracht via een RIB. | D15: Ja | F15: 142804 | G15: 142804 | H15: 142804 | I15: 142804 | K15: =IF($D15="Ja",SUM(F15), IF($D15="Deels",$E15*F15, IF($D15="Verschuiven", IF($E15=2028,"",IF($E15=2029,"",IF($E15=2030,"",""))), IF($D15="Nee","","Nakijken")))) -> 142804 | L15: =IF($D15="Ja",SUM(G15), IF($D15="Deels",$E15*G15, IF($D15="Verschuiven", IF($E15=2028,F15,IF($E15=2029,"",IF($E15=2030,"",""))), IF($D15="Nee","","Nakijken")))) -> 142804 | M15: =IF($D15="Ja",SUM(H15), IF($D15="Deels",$E15*H15, IF($D15="Verschuiven", IF($E15=2028,G15,IF($E15=2029,F15,IF($E15=2030,"",""))), IF($D15="Nee","","Nakijken")))) -> 142804 | N15: =IF($D15="Ja",SUM(I15), IF($D15="Deels",$E15*I15, IF($D15="Verschuiven", IF($E15=2028,H15,IF($E15=2029,G15,IF($E15=2030,F15,""))), IF($D15="Nee","","Nakijken")))) -> 142804
A16: Programma 1 | B16: 1. Bijdrage GR VRBZO | C16: Nieuwe bijdrage aan GR | D16: Ja | F16: -456306 | G16: -440046 | H16: -442734 | I16: -442246 | K16: =IF($D16="Ja",SUM(F16), IF($D16="Deels",$E16*F16, IF($D16="Verschuiven", IF($E16=2028,"",IF($E16=2029,"",IF($E16=2030,"",""))), IF($D16="Nee","","Nakijken")))) -> -456306 | L16: =IF($D16="Ja",SUM(G16), IF($D16="Deels",$E16*G16, IF($D16="Verschuiven", IF($E16=2028,F16,IF($E16=2029,"",IF($E16=2030,"",""))), IF($D16="Nee","","Nakijken")))) -> -440046 | M16: =IF($D16="Ja",SUM(H16), IF($D16="Deels",$E16*H16, IF($D16="Verschuiven", IF($E16=2028,G16,IF($E16=2029,F16,IF($E16=2030,"",""))), IF($D16="Nee","","Nakijken")))) -> -442734 | N16: =IF($D16="Ja",SUM(I16), IF($D16="Deels",$E16*I16, IF($D16="Verschuiven", IF($E16=2028,H16,IF($E16=2029,G16,IF($E16=2030,F16,""))), IF($D16="Nee","","Nakijken")))) -> -442246
A17: Programma 2 | B17: 2. KTM2 | C17: Collegebesluit 3 maart 2026: ingestemd met de projectenlijst en de gemeentelijke bijdrage aan het Korte Termijn Maatregelenpakket 2 (KTM2) mobiliteit uit het Beethovenconvenant. De financiële bijdrage is door het college vastgesteld onder voorbehoud van vaststelling van de MJB 2027–2030 door de gemeenteraad. | D17: Ja | F17: -350025 | G17: -360525 | H17: -371341 | I17: -382481 | K17: =IF($D17="Ja",SUM(F17), IF($D17="Deels",$E17*F17, IF($D17="Verschuiven", IF($E17=2028,"",IF($E17=2029,"",IF($E17=2030,"",""))), IF($D17="Nee","","Nakijken")))) -> -350025 | L17: =IF($D17="Ja",SUM(G17), IF($D17="Deels",$E17*G17, IF($D17="Verschuiven", IF($E17=2028,F17,IF($E17=2029,"",IF($E17=2030,"",""))), IF($D17="Nee","","Nakijken")))) -> -360525 | M17: =IF($D17="Ja",SUM(H17), IF($D17="Deels",$E17*H17, IF($D17="Verschuiven", IF($E17=2028,G17,IF($E17=2029,F17,IF($E17=2030,"",""))), IF($D17="Nee","","Nakijken")))) -> -371341 | N17: =IF($D17="Ja",SUM(I17), IF($D17="Deels",$E17*I17, IF($D17="Verschuiven", IF($E17=2028,H17,IF($E17=2029,G17,IF($E17=2030,F17,""))), IF($D17="Nee","","Nakijken")))) -> -382481
A18: Programma 5 | B18: 1. Dorpsstraat 210 | C18: DD verhuist naar Helmond, de huurinkomsten vervallen en het onderhoud aan het gebouw wordt verlaagd. | D18: Ja | F18: =-125336+59500 -> -65836 | G18: =-125336+59500 -> -65836 | H18: =-125336+95592 -> -29744 | I18: =-125336+95592 -> -29744 | K18: =IF($D18="Ja",SUM(F18), IF($D18="Deels",$E18*F18, IF($D18="Verschuiven", IF($E18=2028,"",IF($E18=2029,"",IF($E18=2030,"",""))), IF($D18="Nee","","Nakijken")))) -> -65836 | L18: =IF($D18="Ja",SUM(G18), IF($D18="Deels",$E18*G18, IF($D18="Verschuiven", IF($E18=2028,F18,IF($E18=2029,"",IF($E18=2030,"",""))), IF($D18="Nee","","Nakijken")))) -> -65836 | M18: =IF($D18="Ja",SUM(H18), IF($D18="Deels",$E18*H18, IF($D18="Verschuiven", IF($E18=2028,G18,IF($E18=2029,F18,IF($E18=2030,"",""))), IF($D18="Nee","","Nakijken")))) -> -29744 | N18: =IF($D18="Ja",SUM(I18), IF($D18="Deels",$E18*I18, IF($D18="Verschuiven", IF($E18=2028,H18,IF($E18=2029,G18,IF($E18=2030,F18,""))), IF($D18="Nee","","Nakijken")))) -> -29744
E20: TOTAAL | F20: =SUM(F5:F18) -> -3315099 | G20: =SUM(G5:G18) -> -3532953 | H20: =SUM(H5:H18) -> -3613827 | I20: =SUM(I5:I18) -> -3890068 | K20: =SUM(K5:K18) -> -3315099 | L20: =SUM(L5:L18) -> -3532953 | M20: =SUM(M5:M18) -> -3613827 | N20: =SUM(N5:N18) -> -3890068

Sheet C1 - Raadsprogramma
A1: C1 - Raadsprogramma
A2: -/- (negatief) bedrag betekent verslechtering begrotingssaldo, +/+ (positief) bedrag betekent verbetering begrotingssaldo
G3: WAS | L3: WORDT
A4: Programma | B4: Opdracht / keuze | C4: Wat verandert er? | D4: Impact / aandachtspunten | E4: Meenemen? | F4: Deels/ Verschuiven | G4: 2027 | H4: 2028 | I4: 2029 | J4: 2030 | K4: .. | L4: 2027 | M4: 2028 | N4: 2029 | O4: 2030
A5: Programma 1 | B5: Uitvoeringskader sociaal domein richting 2030 | C5: Kom uiterlijk aan het einde van het eerste kwartaal van 2027 naar de gemeenteraad met een uitvoeringskader richting 2030 met financieel en organisatorische stand van zaken met indicatoren. | D5: De financieel en organisatorische stand van zaken waarin een uitvoeringskader inzicht en perspectief kan geven wordt ingevuld door de doorontwikkeling van het CMD (inclusief de PlusTaken) naar Stevige Lokale Teams. Het lopende verkenningstraject in het kader van die doorontwikkeling voorziet tot en met medio 2027 in de benodigde ervaringskennis en praktijk inzichten. Deze kennis en inzichten worden benut in de bestuurlijke besluitvorming over bijsturing en verdere uitrol van de Stevige Lokale Teams in de tweede helft van 2027. Voor een gemeentebrede doorontwikkeling zijn aanvullende middelen nodig voor onder meer locaties, projectleiding, implementatie en structurele monitoring. | E5: Ja | G5: -180000 | H5: -75000 | I5: -75000 | J5: -75000 | L5: =IF($E5="Ja",SUM(G5), IF($E5="Deels",$F5*G5, IF($E5="Verschuiven", IF($F5=2028,"",IF($F5=2029,"",IF($F5=2030,"",""))), IF($E5="Nee","","Nakijken")))) -> -180000 | M5: =IF($E5="Ja",SUM(H5), IF($E5="Deels",$F5*H5, IF($E5="Verschuiven", IF($F5=2028,G5,IF($F5=2029,"",IF($F5=2030,"",""))), IF($E5="Nee","","Nakijken")))) -> -75000 | N5: =IF($E5="Ja",SUM(I5), IF($E5="Deels",$F5*I5, IF($E5="Verschuiven", IF($F5=2028,H5,IF($F5=2029,G5,IF($F5=2030,"",""))), IF($E5="Nee","","Nakijken")))) -> -75000 | O5: =IF($E5="Ja",SUM(J5), IF($E5="Deels",$F5*J5, IF($E5="Verschuiven", IF($F5=2028,I5,IF($F5=2029,H5,IF($F5=2030,G5,""))), IF($E5="Nee","","Nakijken")))) -> -75000
A6: Programma 1 | B6: Periodieke armoede- en schuldenmonitor | C6: Maak van de bestaande kwartaalrapportage sociaal domein een halfjaarrapportage bestaanszekerheid die wordt uitgebreid met een periodieke armoede- en schuldenmonitor. | D6: De huidige armoedescan wordt nu om de twee jaar uitgevoerd, waarvoor bovendien geen structurele dekking beschikbaar is. Voor een hogere rapportagefrequentie zijn extra middelen en onderzoeks- en analysecapaciteit nodig. Zowel intern als bij Senzer. | E6: Verschuiven | F6: 2028 | G6: -25000 | H6: -25000 | I6: -25000 | J6: -25000 | L6: =IF($E6="Ja",SUM(G6), IF($E6="Deels",$F6*G6, IF($E6="Verschuiven", IF($F6=2028,"",IF($F6=2029,"",IF($F6=2030,"",""))), IF($E6="Nee","","Nakijken")))) | M6: =IF($E6="Ja",SUM(H6), IF($E6="Deels",$F6*H6, IF($E6="Verschuiven", IF($F6=2028,G6,IF($F6=2029,"",IF($F6=2030,"",""))), IF($E6="Nee","","Nakijken")))) -> -25000 | N6: =IF($E6="Ja",SUM(I6), IF($E6="Deels",$F6*I6, IF($E6="Verschuiven", IF($F6=2028,H6,IF($F6=2029,G6,IF($F6=2030,"",""))), IF($E6="Nee","","Nakijken")))) -> -25000 | O6: =IF($E6="Ja",SUM(J6), IF($E6="Deels",$F6*J6, IF($E6="Verschuiven", IF($F6=2028,I6,IF($F6=2029,H6,IF($F6=2030,G6,""))), IF($E6="Nee","","Nakijken")))) -> -25000
A7: Programma 1 | B7: Halfjaarrapportage bestaanszekerheid met effectmeting | C7: Maak van de bestaande kwartaalrapportage sociaal domein een halfjaarrapportage bestaanszekerheid met meetbare indicatoren voor bereik, gebruik en effectiviteit van ondersteuning Maak van de bestaande kwartaalrapportage sociaal domein een halfjaarrapportage bestaanszekerheid met impactmetingen waar mogelijk. | D7: Voor bereik en gebruik kan deels worden aangesloten bij bestaande gegevens over minimaregelingen, vroegsignalering en de armoedescan. Een halfjaarlijkse rapportage waarin ook de effectiviteit van ondersteuning betrouwbaar wordt gemeten, vraagt echter aanvullende gegevens, analysecapaciteit en afspraken met uitvoeringspartners. Hiervoor is structurele dekking nodig. Impactmetingen vragen meer dan het registreren van bereik en gebruik: er is een meetopzet, nulmeting, meerjarige dataverzameling en specialistische analyse nodig. Deze infrastructuur is nu niet structureel beschikbaar. Aanvullende middelen zijn daarom nodig; daarbij moet vooraf worden bepaald voor welke onderdelen een betrouwbare impactmeting daadwerkelijk mogelijk is. | E7: Verschuiven | F7: 2028 | G7: -50000 | H7: -50000 | I7: -50000 | J7: -50000 | L7: =IF($E7="Ja",SUM(G7), IF($E7="Deels",$F7*G7, IF($E7="Verschuiven", IF($F7=2028,"",IF($F7=2029,"",IF($F7=2030,"",""))), IF($E7="Nee","","Nakijken")))) | M7: =IF($E7="Ja",SUM(H7), IF($E7="Deels",$F7*H7, IF($E7="Verschuiven", IF($F7=2028,G7,IF($F7=2029,"",IF($F7=2030,"",""))), IF($E7="Nee","","Nakijken")))) -> -50000 | N7: =IF($E7="Ja",SUM(I7), IF($E7="Deels",$F7*I7, IF($E7="Verschuiven", IF($F7=2028,H7,IF($F7=2029,G7,IF($F7=2030,"",""))), IF($E7="Nee","","Nakijken")))) -> -50000 | O7: =IF($E7="Ja",SUM(J7), IF($E7="Deels",$F7*J7, IF($E7="Verschuiven", IF($F7=2028,I7,IF($F7=2029,H7,IF($F7=2030,G7,""))), IF($E7="Nee","","Nakijken")))) -> -50000
A8: Programma 2 | B8: Monitoring ‘De Stap naar gezonder’ | C8: Breid uiterlijk medio 2027 het programma “stap naar gezonder” uit met 0-meting van maatschappelijke effecten gevolgd door jaarlijkse monitoring van het programma. | D8: Een representatieve nulmeting en jaarlijkse meting van causale maatschappelijke effecten van preventie is op gemeentelijk niveau niet zonder meer uitvoerbaar. Een haalbare basis is een lokale oplegger bij bestaande bronnen, zoals de GGD- en IZA-monitor. Voor aanvullende jaarlijkse analyse, lokale dataverzameling en rapportage zijn capaciteit en middelen nodig. | E8: Nee | G8: -50000 | H8: -50000 | I8: -50000 | J8: -50000 | L8: =IF($E8="Ja",SUM(G8), IF($E8="Deels",$F8*G8, IF($E8="Verschuiven", IF($F8=2028,"",IF($F8=2029,"",IF($F8=2030,"",""))), IF($E8="Nee","","Nakijken")))) | M8: =IF($E8="Ja",SUM(H8), IF($E8="Deels",$F8*H8, IF($E8="Verschuiven", IF($F8=2028,G8,IF($F8=2029,"",IF($F8=2030,"",""))), IF($E8="Nee","","Nakijken")))) | N8: =IF($E8="Ja",SUM(I8), IF($E8="Deels",$F8*I8, IF($E8="Verschuiven", IF($F8=2028,H8,IF($F8=2029,G8,IF($F8=2030,"",""))), IF($E8="Nee","","Nakijken")))) | O8: =IF($E8="Ja",SUM(J8), IF($E8="Deels",$F8*J8, IF($E8="Verschuiven", IF($F8=2028,I8,IF($F8=2029,H8,IF($F8=2030,G8,""))), IF($E8="Nee","","Nakijken"))))
A9: Programma 2 | B9: Programmatische wijkaanpak en centrale visie | C9: Ontwikkel een programmatische aanpak op het gebied van leefbaarheid voor elke wijk en presenteer deze uiterlijk in 2027 met daarin de prioriteiten en maatschappelijke opgaven, hoe samenwerking met inwoners en organisaties structureel wordt georganiseerd, de doelen voor sociale samenhang en participatie en de rol van ontmoetingsplekken en voorzieningen in de wijk. Ontwikkel een centrale visie op een toekomstgerichte programmatische aanpak en presenteer deze uiterlijk in het eerste kwartaal van 2027, waarin is opgenomen: Een tijdspad om te komen tot een programma per wijk (uiterlijk alle wijken eind 2029); Integrale doelstellingen voor de wijk; Samenwerking met maatschappelijke partners in de wijk; Meetbare indicatoren op leefbaarheid en veiligheid; Centrale ontmoetingspunten en contactpersonen; Een jaarlijkse voortgangsrapportage aan de raad. | D9: Een afzonderlijk programma voor iedere wijk, met eigen projecten, doelen, indicatoren en rapportages, past niet binnen de huidige capaciteit en middelen. Aanvullende middelen zijn nodig voor programmaregie, participatie, uitvoering en monitoring. Een realistische uitwerking begint met één gemeentebrede werkwijze en een gefaseerde inzet in een beperkt aantal prioritaire wijken. De gevraagde aanpak is breder dan de huidige inzet op specifieke gebieden, zoals de Coevering, Zesgehuchten, Goorsedijk en de centra. Voor een gemeentebreed sturingsmodel, programma's per wijk, contactpunten, indicatoren en jaarlijkse rapportage zijn aanvullende capaciteit en middelen nodig. Eerst is een bestuurlijke keuze nodig over prioritering, regieniveau, fasering en aansluiting bij lopende trajecten. | E9: Ja | G9: -100000 | L9: =IF($E9="Ja",SUM(G9), IF($E9="Deels",$F9*G9, IF($E9="Verschuiven", IF($F9=2028,"",IF($F9=2029,"",IF($F9=2030,"",""))), IF($E9="Nee","","Nakijken")))) -> -100000 | M9: =IF($E9="Ja",SUM(H9), IF($E9="Deels",$F9*H9, IF($E9="Verschuiven", IF($F9=2028,G9,IF($F9=2029,"",IF($F9=2030,"",""))), IF($E9="Nee","","Nakijken")))) -> 0 | N9: =IF($E9="Ja",SUM(I9), IF($E9="Deels",$F9*I9, IF($E9="Verschuiven", IF($F9=2028,H9,IF($F9=2029,G9,IF($F9=2030,"",""))), IF($E9="Nee","","Nakijken")))) -> 0 | O9: =IF($E9="Ja",SUM(J9), IF($E9="Deels",$F9*J9, IF($E9="Verschuiven", IF($F9=2028,I9,IF($F9=2029,H9,IF($F9=2030,G9,""))), IF($E9="Nee","","Nakijken")))) -> 0
A10: Programma 4 | B10: CO₂- en energiedoelen gemeentelijk vastgoed | C10: Hanteer meetbare CO2- en energiedoelen en benut mogelijkheden voor het energieneutraal maken van (gemeentelijke) gebouwen. | D10: Voor meetbare CO2- en energiedoelen kan worden aangesloten bij de regionale klimaatmonitor, hier zijn kosten aan verbonden. Het energieneutraal maken van gemeentelijke gebouwen vraagt onderzoek per gebouw, een uitvoeringsplan en investeringen in isolatie, installaties en opwek. Voor deze uitwerking en uitvoering zijn aanvullende middelen en financiële besluitvorming nodig. | E10: Nee | G10: -20000 | H10: -20000 | I10: -20000 | J10: -20000 | L10: =IF($E10="Ja",SUM(G10), IF($E10="Deels",$F10*G10, IF($E10="Verschuiven", IF($F10=2028,"",IF($F10=2029,"",IF($F10=2030,"",""))), IF($E10="Nee","","Nakijken")))) | M10: =IF($E10="Ja",SUM(H10), IF($E10="Deels",$F10*H10, IF($E10="Verschuiven", IF($F10=2028,G10,IF($F10=2029,"",IF($F10=2030,"",""))), IF($E10="Nee","","Nakijken")))) | N10: =IF($E10="Ja",SUM(I10), IF($E10="Deels",$F10*I10, IF($E10="Verschuiven", IF($F10=2028,H10,IF($F10=2029,G10,IF($F10=2030,"",""))), IF($E10="Nee","","Nakijken")))) | O10: =IF($E10="Ja",SUM(J10), IF($E10="Deels",$F10*J10, IF($E10="Verschuiven", IF($F10=2028,I10,IF($F10=2029,H10,IF($F10=2030,G10,""))), IF($E10="Nee","","Nakijken"))))
A11: Programma 4 | B11: Lokale aanpak netcongestie | C11: Betrek bij de lokale aanpak van de netcongestie de volgende zaken: o Pilot buurtbatterij om de energietransitie te bevorderen; o Mogelijkheden voor het slim gebruik maken van overcapaciteit overdag; o Een verkenning naar de mogelijkheden van kleinschalige kernenergie | D11: Een buurtbatterij, slim gebruik van overcapaciteit en een verkenning van kleinschalige kernenergie vragen specialistische onderzoeken, samenwerking met netbeheerder en regio en mogelijk aanzienlijke investeringen. De haalbaarheid is bovendien afhankelijk van externe regelgeving en ontwikkelingen op de energiemarkt. Daarom zijn aanvullende middelen nodig voor onderzoek, voorbereiding en eventuele pilots. In de begroting wordt het vraagstuk t.a.v. de netcongestie onderdeel van de opgave energietransitie. | E11: Deels | F11: 0.75 | G11: -80000 | H11: -80000 | I11: -80000 | J11: -80000 | L11: =IF($E11="Ja",SUM(G11), IF($E11="Deels",$F11*G11, IF($E11="Verschuiven", IF($F11=2028,"",IF($F11=2029,"",IF($F11=2030,"",""))), IF($E11="Nee","","Nakijken")))) -> -60000 | M11: =IF($E11="Ja",SUM(H11), IF($E11="Deels",$F11*H11, IF($E11="Verschuiven", IF($F11=2028,G11,IF($F11=2029,"",IF($F11=2030,"",""))), IF($E11="Nee","","Nakijken")))) -> -60000 | N11: =IF($E11="Ja",SUM(I11), IF($E11="Deels",$F11*I11, IF($E11="Verschuiven", IF($F11=2028,H11,IF($F11=2029,G11,IF($F11=2030,"",""))), IF($E11="Nee","","Nakijken")))) -> -60000 | O11: =IF($E11="Ja",SUM(J11), IF($E11="Deels",$F11*J11, IF($E11="Verschuiven", IF($F11=2028,I11,IF($F11=2029,H11,IF($F11=2030,G11,""))), IF($E11="Nee","","Nakijken")))) -> -60000
A12: Programma 4 | B12: Meerjarig mobiliteitsprogramma | C12: Werk een meerjarig mobiliteitsprogramma uit met monitoring van verkeersdruk. | D12: Een meerjarig mobiliteitsprogramma met structurele monitoring vraagt aanvullende verkeersdata, analysecapaciteit en programmatische regie. De huidige portefeuille en beschikbare capaciteit zijn onvoldoende om alle mobiliteitsopgaven tegelijk uit te werken. Aanvullende middelen zijn nodig om prioriteiten, monitoring en uitvoeringsmaatregelen in samenhang te organiseren. | E12: Ja | H12: -50000 | I12: -50000 | J12: -50000 | K12: AANGEPASTE BEDRAGEN IN KOLOM 'WORDT' | L12: =IF($E12="Ja",SUM(G12), IF($E12="Deels",$F12*G12, IF($E12="Verschuiven", IF($F12=2028,"",IF($F12=2029,"",IF($F12=2030,"",""))), IF($E12="Nee","","Nakijken")))) -> 0 | M12: -50000 | N12: -25000 | O12: -25000
A13: Programma 4 | B13: Meerjarig mobiliteitsprogramma | C13: Werk in het mobiliteitsprogramma de ontsluiting van Luchen en Hulst uit en doe onderzoek naar deelmobiliteit in beide kernen. | D13: De ontsluiting van Luchen en Hulst vragen verkeerskundige studies, participatie en afstemming met woningbouw- en gebiedsontwikkelingen. Maatregelen kunnen bovendien investeringen in infrastructuur vergen. Ook het onderzoek naar deelmobiliteit vereist aanvullende middelen en capaciteit. | E13: Ja | H13: -50000 | I13: -50000 | J13: -50000 | K13: AANGEPASTE BEDRAGEN IN KOLOM 'WORDT' | L13: =IF($E13="Ja",SUM(G13), IF($E13="Deels",$F13*G13, IF($E13="Verschuiven", IF($F13=2028,"",IF($F13=2029,"",IF($F13=2030,"",""))), IF($E13="Nee","","Nakijken")))) -> 0 | M13: -50000 | N13: 0 | O13: 0
A14: Programma 4 | B14: Meerjarig mobiliteitsprogramma | C14: Werk in het mobiliteitsprogramma mogelijkheden uit voor laadinfrastructuur standaard opnemen in woningbouwplannen | D14: Het standaard meenemen van laadinfrastructuur in woningbouwplannen vraagt beleidsmatige uitwerking, netcapaciteitsonderzoek en afspraken met ontwikkelaars en netbeheerder. De vertaling naar concrete planregels en een dekkend netwerk kan daarnaast uitvoerings- en investeringsgevolgen hebben. Hiervoor zijn aanvullende middelen en capaciteit nodig. | E14: Nee | H14: -50000 | I14: -50000 | J14: -50000 | L14: =IF($E14="Ja",SUM(G14), IF($E14="Deels",$F14*G14, IF($E14="Verschuiven", IF($F14=2028,"",IF($F14=2029,"",IF($F14=2030,"",""))), IF($E14="Nee","","Nakijken")))) | M14: =IF($E14="Ja",SUM(H14), IF($E14="Deels",$F14*H14, IF($E14="Verschuiven", IF($F14=2028,G14,IF($F14=2029,"",IF($F14=2030,"",""))), IF($E14="Nee","","Nakijken")))) | N14: =IF($E14="Ja",SUM(I14), IF($E14="Deels",$F14*I14, IF($E14="Verschuiven", IF($F14=2028,H14,IF($F14=2029,G14,IF($F14=2030,"",""))), IF($E14="Nee","","Nakijken")))) | O14: =IF($E14="Ja",SUM(J14), IF($E14="Deels",$F14*J14, IF($E14="Verschuiven", IF($F14=2028,I14,IF($F14=2029,H14,IF($F14=2030,G14,""))), IF($E14="Nee","","Nakijken"))))
A15: Programma 5 | B15: Verbeterprogramma dienstverlening | C15: Werk uiterlijk in 2027 een (verbeter)programma dienstverlening uit met servicenormen (smart geformuleerde prestatie indicatoren) voor bereikbaarheid en dienstverlening en voer een 0-meting uit. Neem hierin de Net Promotor Score mee. | D15: Het dienstverleningsconcept en het uitvoeringsplan bieden een inhoudelijke basis voor het verbeterprogramma. Het vaststellen van SMART-servicenormen en KPI's is al voorzien, maar een nulmeting, de Net Promotor Score en structurele meting en rapportage vragen aanvullende onderzoeks- en analysecapaciteit en kunnen externe kosten meebrengen. Hiervoor zijn aanvullende middelen nodig. | E15: Verschuiven | F15: 2028 | G15: -25000 | L15: =IF($E15="Ja",SUM(G15), IF($E15="Deels",$F15*G15, IF($E15="Verschuiven", IF($F15=2028,"",IF($F15=2029,"",IF($F15=2030,"",""))), IF($E15="Nee","","Nakijken")))) | M15: =IF($E15="Ja",SUM(H15), IF($E15="Deels",$F15*H15, IF($E15="Verschuiven", IF($F15=2028,G15,IF($F15=2029,"",IF($F15=2030,"",""))), IF($E15="Nee","","Nakijken")))) -> -25000 | N15: =IF($E15="Ja",SUM(I15), IF($E15="Deels",$F15*I15, IF($E15="Verschuiven", IF($F15=2028,H15,IF($F15=2029,G15,IF($F15=2030,"",""))), IF($E15="Nee","","Nakijken")))) -> 0 | O15: =IF($E15="Ja",SUM(J15), IF($E15="Deels",$F15*J15, IF($E15="Verschuiven", IF($F15=2028,I15,IF($F15=2029,H15,IF($F15=2030,G15,""))), IF($E15="Nee","","Nakijken")))) -> 0
A16: Programma 5 | B16: Raadgevend referendum | C16: De mogelijkheid om in deze bestuursperiode een raadgevend referendum te organiseren; | D16: Een raadgevend referendum vraagt een afzonderlijke juridische en organisatorische uitwerking, waaronder criteria voor inzet, procedure, communicatie, uitvoering en evaluatie. Ook de feitelijke organisatie van een referendum brengt kosten en capaciteitsbeslag met zich mee. Daarom zijn aanvullende middelen en een expliciete bestuurlijke keuze nodig. | E16: Ja | I16: -100000 | L16: =IF($E16="Ja",SUM(G16), IF($E16="Deels",$F16*G16, IF($E16="Verschuiven", IF($F16=2028,"",IF($F16=2029,"",IF($F16=2030,"",""))), IF($E16="Nee","","Nakijken")))) -> 0 | M16: =IF($E16="Ja",SUM(H16), IF($E16="Deels",$F16*H16, IF($E16="Verschuiven", IF($F16=2028,G16,IF($F16=2029,"",IF($F16=2030,"",""))), IF($E16="Nee","","Nakijken")))) -> 0 | N16: =IF($E16="Ja",SUM(I16), IF($E16="Deels",$F16*I16, IF($E16="Verschuiven", IF($F16=2028,H16,IF($F16=2029,G16,IF($F16=2030,"",""))), IF($E16="Nee","","Nakijken")))) -> -100000 | O16: =IF($E16="Ja",SUM(J16), IF($E16="Deels",$F16*J16, IF($E16="Verschuiven", IF($F16=2028,I16,IF($F16=2029,H16,IF($F16=2030,G16,""))), IF($E16="Nee","","Nakijken")))) -> 0
F18: TOTAAL | G18: =SUM(G5:G17) -> -530000 | H18: =SUM(H5:H17) -> -450000 | I18: =SUM(I5:I17) -> -550000 | J18: =SUM(J5:J17) -> -450000 | L18: =SUM(L5:L17) -> -340000 | M18: =SUM(M5:M17) -> -335000 | N18: =SUM(N5:N17) -> -335000 | O18: =SUM(O5:O17) -> -235000

Sheet C2 - Nieuw geld
A1: C2 - Nieuw geld
A2: -/- (negatief) bedrag betekent verslechtering begrotingssaldo, +/+ (positief) bedrag betekent verbetering begrotingssaldo
H3: WAS | M3: WORDT
A4: Programma | B4: Herkomst | C4: Aanvraag | D4: Wat verandert er? | E4: Impact / aandachtspunten | F4: Meenemen? | G4: Deels/ Verschuiven | H4: 2027 | I4: 2028 | J4: 2029 | K4: 2030 | L4: .. | M4: 2027 | N4: 2028 | O4: 2029 | P4: 2030
A5: Programma 1 | B5: Nieuw geld | C5: Opschaling Stevige Lokale Teams | D5: Aanvullende middelen worden gevraagd voor opschaling Stevige Lokale Teams. | E5: Op 'nee' omdat deze ook is opgenomen in C1/ raadsprogramma. | F5: Nee | H5: -80000 | I5: -100000 | M5: =IF($F5="Ja",SUM(H5), IF($F5="Deels",$G5*H5, IF($F5="Verschuiven", IF($G5=2028,"",IF($G5=2029,"",IF($G5=2030,"",""))), IF($F5="Nee","","Nakijken")))) | N5: =IF($F5="Ja",SUM(I5), IF($F5="Deels",$G5*I5, IF($F5="Verschuiven", IF($G5=2028,H5,IF($G5=2029,"",IF($G5=2030,"",""))), IF($F5="Nee","","Nakijken")))) | O5: =IF($F5="Ja",SUM(J5), IF($F5="Deels",$G5*J5, IF($F5="Verschuiven", IF($G5=2028,I5,IF($G5=2029,H5,IF($G5=2030,"",""))), IF($F5="Nee","","Nakijken")))) | P5: =IF($F5="Ja",SUM(K5), IF($F5="Deels",$G5*K5, IF($F5="Verschuiven", IF($G5=2028,J5,IF($G5=2029,I5,IF($G5=2030,H5,""))), IF($F5="Nee","","Nakijken"))))
A6: Programma 1 | B6: Nieuw geld | C6: Opgavesturing sociaal domein | D6: Sturing op inhoudelijke regie Sociaal Domein. | E6: Meerdere projecten en ontwikkelingen binnen het sociaal domein waar ook een financiele taakstelling onder ligt. Sturing op het geheel met een duidelijke focus is noodzakelijk. | F6: Ja | H6: -125000 | I6: -125000 | J6: -125000 | K6: -125000 | M6: =IF($F6="Ja",SUM(H6), IF($F6="Deels",$G6*H6, IF($F6="Verschuiven", IF($G6=2028,"",IF($G6=2029,"",IF($G6=2030,"",""))), IF($F6="Nee","","Nakijken")))) -> -125000 | N6: =IF($F6="Ja",SUM(I6), IF($F6="Deels",$G6*I6, IF($F6="Verschuiven", IF($G6=2028,H6,IF($G6=2029,"",IF($G6=2030,"",""))), IF($F6="Nee","","Nakijken")))) -> -125000 | O6: =IF($F6="Ja",SUM(J6), IF($F6="Deels",$G6*J6, IF($F6="Verschuiven", IF($G6=2028,I6,IF($G6=2029,H6,IF($G6=2030,"",""))), IF($F6="Nee","","Nakijken")))) -> -125000 | P6: =IF($F6="Ja",SUM(K6), IF($F6="Deels",$G6*K6, IF($F6="Verschuiven", IF($G6=2028,J6,IF($G6=2029,I6,IF($G6=2030,H6,""))), IF($F6="Nee","","Nakijken")))) -> -125000
A7: Programma 2 | B7: Nieuw geld | C7: Project 'uit elkaar gaan' | D7: Deze aanvraag betreft aanvullende middelen voor project 'uit elkaar gaan'. | F7: Ja | H7: -21409 | M7: =IF($F7="Ja",SUM(H7), IF($F7="Deels",$G7*H7, IF($F7="Verschuiven", IF($G7=2028,"",IF($G7=2029,"",IF($G7=2030,"",""))), IF($F7="Nee","","Nakijken")))) -> -21409 | N7: =IF($F7="Ja",SUM(I7), IF($F7="Deels",$G7*I7, IF($F7="Verschuiven", IF($G7=2028,H7,IF($G7=2029,"",IF($G7=2030,"",""))), IF($F7="Nee","","Nakijken")))) -> 0 | O7: =IF($F7="Ja",SUM(J7), IF($F7="Deels",$G7*J7, IF($F7="Verschuiven", IF($G7=2028,I7,IF($G7=2029,H7,IF($G7=2030,"",""))), IF($F7="Nee","","Nakijken")))) -> 0 | P7: =IF($F7="Ja",SUM(K7), IF($F7="Deels",$G7*K7, IF($F7="Verschuiven", IF($G7=2028,J7,IF($G7=2029,I7,IF($G7=2030,H7,""))), IF($F7="Nee","","Nakijken")))) -> 0
A8: Programma 2 | B8: Nieuw geld | C8: Huisvestingsverordening, urgentieregeling | D8: Deze aanvraag betreft aanvullende middelen voor huisvestingsverordening, urgentieregeling. | E8: het opstellen van de regeling en in stand houden ervan kost geld. Met de 21 MRE-gemeenten wordt gezamenlijk een urgentieregeling/verordening opgesteld. Dit is een wettelijke taak (Wet Regie Versterking Volkshuisvesting) en moet uiterlijk 1/7/2027 gereed zijn. Daarna blijven kosten bestaan voor het instandhouden. Besluitvorming in MRE is in voorbereiding. | F8: Ja | H8: -18000 | I8: -22000 | J8: -23000 | K8: -23000 | M8: =IF($F8="Ja",SUM(H8), IF($F8="Deels",$G8*H8, IF($F8="Verschuiven", IF($G8=2028,"",IF($G8=2029,"",IF($G8=2030,"",""))), IF($F8="Nee","","Nakijken")))) -> -18000 | N8: =IF($F8="Ja",SUM(I8), IF($F8="Deels",$G8*I8, IF($F8="Verschuiven", IF($G8=2028,H8,IF($G8=2029,"",IF($G8=2030,"",""))), IF($F8="Nee","","Nakijken")))) -> -22000 | O8: =IF($F8="Ja",SUM(J8), IF($F8="Deels",$G8*J8, IF($F8="Verschuiven", IF($G8=2028,I8,IF($G8=2029,H8,IF($G8=2030,"",""))), IF($F8="Nee","","Nakijken")))) -> -23000 | P8: =IF($F8="Ja",SUM(K8), IF($F8="Deels",$G8*K8, IF($F8="Verschuiven", IF($G8=2028,J8,IF($G8=2029,I8,IF($G8=2030,H8,""))), IF($F8="Nee","","Nakijken")))) -> -23000
A9: Programma 2 | B9: Nieuw geld | C9: Programma versterking regie volkshuisvesting | D9: Deze aanvraag betreft aanvullende middelen voor programma versterking regie volkshuisvesting. | E9: Bedrag uit decembercirculaire 2025 voor programma versterking regie volkshuisvesting. €30.000 wordt in 2e TURAP 2026 meegenomen. Op 'nee' omdat wordt voorgesteld te financieren uit vacatureruimte bij volkshuisvesting. | F9: Nee | H9: -50000 | M9: =IF($F9="Ja",SUM(H9), IF($F9="Deels",$G9*H9, IF($F9="Verschuiven", IF($G9=2028,"",IF($G9=2029,"",IF($G9=2030,"",""))), IF($F9="Nee","","Nakijken")))) | N9: =IF($F9="Ja",SUM(I9), IF($F9="Deels",$G9*I9, IF($F9="Verschuiven", IF($G9=2028,H9,IF($G9=2029,"",IF($G9=2030,"",""))), IF($F9="Nee","","Nakijken")))) | O9: =IF($F9="Ja",SUM(J9), IF($F9="Deels",$G9*J9, IF($F9="Verschuiven", IF($G9=2028,I9,IF($G9=2029,H9,IF($G9=2030,"",""))), IF($F9="Nee","","Nakijken")))) | P9: =IF($F9="Ja",SUM(K9), IF($F9="Deels",$G9*K9, IF($F9="Verschuiven", IF($G9=2028,J9,IF($G9=2029,I9,IF($G9=2030,H9,""))), IF($F9="Nee","","Nakijken"))))
A10: Programma 2 | B10: Nieuw geld | C10: Onderzoek verplaatsing MTV | D10: Aanvullende middelen worden gevraagd voor onderzoek verplaatsing MTV. | E10: Het gaat om de ruimtelijke, financiële en organisatorische verkenning van de verplaatsing zodat de raad keuzes keuzes kan maken over de beoogde locatie. | F10: Ja | H10: -35000 | M10: =IF($F10="Ja",SUM(H10), IF($F10="Deels",$G10*H10, IF($F10="Verschuiven", IF($G10=2028,"",IF($G10=2029,"",IF($G10=2030,"",""))), IF($F10="Nee","","Nakijken")))) -> -35000 | N10: =IF($F10="Ja",SUM(I10), IF($F10="Deels",$G10*I10, IF($F10="Verschuiven", IF($G10=2028,H10,IF($G10=2029,"",IF($G10=2030,"",""))), IF($F10="Nee","","Nakijken")))) -> 0 | O10: =IF($F10="Ja",SUM(J10), IF($F10="Deels",$G10*J10, IF($F10="Verschuiven", IF($G10=2028,I10,IF($G10=2029,H10,IF($G10=2030,"",""))), IF($F10="Nee","","Nakijken")))) -> 0 | P10: =IF($F10="Ja",SUM(K10), IF($F10="Deels",$G10*K10, IF($F10="Verschuiven", IF($G10=2028,J10,IF($G10=2029,I10,IF($G10=2030,H10,""))), IF($F10="Nee","","Nakijken")))) -> 0
A11: Programma 2 | B11: Nieuw geld | C11: Uitvoering masterplan Gijzenrooi | D11: Aanvullende middelen worden gevraagd voor uitvoering masterplan Gijzenrooi. | F11: Ja | H11: -20000 | M11: =IF($F11="Ja",SUM(H11), IF($F11="Deels",$G11*H11, IF($F11="Verschuiven", IF($G11=2028,"",IF($G11=2029,"",IF($G11=2030,"",""))), IF($F11="Nee","","Nakijken")))) -> -20000 | N11: =IF($F11="Ja",SUM(I11), IF($F11="Deels",$G11*I11, IF($F11="Verschuiven", IF($G11=2028,H11,IF($G11=2029,"",IF($G11=2030,"",""))), IF($F11="Nee","","Nakijken")))) -> 0 | O11: =IF($F11="Ja",SUM(J11), IF($F11="Deels",$G11*J11, IF($F11="Verschuiven", IF($G11=2028,I11,IF($G11=2029,H11,IF($G11=2030,"",""))), IF($F11="Nee","","Nakijken")))) -> 0 | P11: =IF($F11="Ja",SUM(K11), IF($F11="Deels",$G11*K11, IF($F11="Verschuiven", IF($G11=2028,J11,IF($G11=2029,I11,IF($G11=2030,H11,""))), IF($F11="Nee","","Nakijken")))) -> 0
A12: Programma 2 | B12: Nieuw geld | C12: Maatschappelijke weerbaarheid | D12: Aanvullende middelen worden ingezet om de maatschappelijke weerbaarheid te versterken, gericht op het vergroten van bewustzijn, voorbereiding en handelingsperspectief van inwoners en maatschappelijke organisaties bij verstoringen en crises. | E12: De opgave is nog in ontwikkeling en kent nog onzekerheden over de precieze rol en verantwoordelijkheid van de gemeente, de benodigde inzet en de financiële consequenties. Van belang is eerst scherp te krijgen wat de gemeente al doet, welke inzet vanuit andere partijen en overheden plaatsvindt en waar bestaande activiteiten, netwerken en beleid slim met elkaar kunnen worden verbonden. Op basis daarvan kan worden bepaald welke aanvullende gemeentelijke inzet daadwerkelijk nodig en doelmatig is. | F12: Ja | H12: -100000 | I12: -100000 | J12: -100000 | K12: -100000 | M12: =IF($F12="Ja",SUM(H12), IF($F12="Deels",$G12*H12, IF($F12="Verschuiven", IF($G12=2028,"",IF($G12=2029,"",IF($G12=2030,"",""))), IF($F12="Nee","","Nakijken")))) -> -100000 | N12: =IF($F12="Ja",SUM(I12), IF($F12="Deels",$G12*I12, IF($F12="Verschuiven", IF($G12=2028,H12,IF($G12=2029,"",IF($G12=2030,"",""))), IF($F12="Nee","","Nakijken")))) -> -100000 | O12: =IF($F12="Ja",SUM(J12), IF($F12="Deels",$G12*J12, IF($F12="Verschuiven", IF($G12=2028,I12,IF($G12=2029,H12,IF($G12=2030,"",""))), IF($F12="Nee","","Nakijken")))) -> -100000 | P12: =IF($F12="Ja",SUM(K12), IF($F12="Deels",$G12*K12, IF($F12="Verschuiven", IF($G12=2028,J12,IF($G12=2029,I12,IF($G12=2030,H12,""))), IF($F12="Nee","","Nakijken")))) -> -100000
A13: Programma 2 | B13: Nieuw geld | C13: Sociaal plan PlusTeam | D13: Sociaal Plan Plusteam | E13: Met de overgang van het plusteam van een Gr naar de gemeente is er een sociaal plan opgesteld. Werknemers gaan ovr van CAO Social Work naar CAO gemeenten. Om geen negatieve gevolgen van deze overgang te hebben voor de collega's is een sociaal plan opgesteld. Dit vraagt om een structureel bedrag van € 70.000 | F13: Ja | H13: -70000 | I13: -70000 | J13: -70000 | K13: -70000 | M13: =IF($F13="Ja",SUM(H13), IF($F13="Deels",$G13*H13, IF($F13="Verschuiven", IF($G13=2028,"",IF($G13=2029,"",IF($G13=2030,"",""))), IF($F13="Nee","","Nakijken")))) -> -70000 | N13: =IF($F13="Ja",SUM(I13), IF($F13="Deels",$G13*I13, IF($F13="Verschuiven", IF($G13=2028,H13,IF($G13=2029,"",IF($G13=2030,"",""))), IF($F13="Nee","","Nakijken")))) -> -70000 | O13: =IF($F13="Ja",SUM(J13), IF($F13="Deels",$G13*J13, IF($F13="Verschuiven", IF($G13=2028,I13,IF($G13=2029,H13,IF($G13=2030,"",""))), IF($F13="Nee","","Nakijken")))) -> -70000 | P13: =IF($F13="Ja",SUM(K13), IF($F13="Deels",$G13*K13, IF($F13="Verschuiven", IF($G13=2028,J13,IF($G13=2029,I13,IF($G13=2030,H13,""))), IF($F13="Nee","","Nakijken")))) -> -70000
A14: Programma 4 | B14: Nieuw geld | C14: Bureau Halt | D14: Deze aanvraag betreft aanvullende middelen voor bureau Halt. | F14: Ja | H14: -4661 | I14: -4661 | J14: -4661 | K14: -4661 | M14: =IF($F14="Ja",SUM(H14), IF($F14="Deels",$G14*H14, IF($F14="Verschuiven", IF($G14=2028,"",IF($G14=2029,"",IF($G14=2030,"",""))), IF($F14="Nee","","Nakijken")))) -> -4661 | N14: =IF($F14="Ja",SUM(I14), IF($F14="Deels",$G14*I14, IF($F14="Verschuiven", IF($G14=2028,H14,IF($G14=2029,"",IF($G14=2030,"",""))), IF($F14="Nee","","Nakijken")))) -> -4661 | O14: =IF($F14="Ja",SUM(J14), IF($F14="Deels",$G14*J14, IF($F14="Verschuiven", IF($G14=2028,I14,IF($G14=2029,H14,IF($G14=2030,"",""))), IF($F14="Nee","","Nakijken")))) -> -4661 | P14: =IF($F14="Ja",SUM(K14), IF($F14="Deels",$G14*K14, IF($F14="Verschuiven", IF($G14=2028,J14,IF($G14=2029,I14,IF($G14=2030,H14,""))), IF($F14="Nee","","Nakijken")))) -> -4661
A15: Programma 4 | B15: Nieuw geld | C15: Areaaluitbreiding onderhoudsbudget natuur en bossen | D15: Aanvullend budget wordt gevraagd voor areaaluitbreiding onderhoudsbudget natuur en bossen. | F15: Ja | H15: -9204 | I15: -9204 | J15: -9204 | K15: -9204 | M15: =IF($F15="Ja",SUM(H15), IF($F15="Deels",$G15*H15, IF($F15="Verschuiven", IF($G15=2028,"",IF($G15=2029,"",IF($G15=2030,"",""))), IF($F15="Nee","","Nakijken")))) -> -9204 | N15: =IF($F15="Ja",SUM(I15), IF($F15="Deels",$G15*I15, IF($F15="Verschuiven", IF($G15=2028,H15,IF($G15=2029,"",IF($G15=2030,"",""))), IF($F15="Nee","","Nakijken")))) -> -9204 | O15: =IF($F15="Ja",SUM(J15), IF($F15="Deels",$G15*J15, IF($F15="Verschuiven", IF($G15=2028,I15,IF($G15=2029,H15,IF($G15=2030,"",""))), IF($F15="Nee","","Nakijken")))) -> -9204 | P15: =IF($F15="Ja",SUM(K15), IF($F15="Deels",$G15*K15, IF($F15="Verschuiven", IF($G15=2028,J15,IF($G15=2029,I15,IF($G15=2030,H15,""))), IF($F15="Nee","","Nakijken")))) -> -9204
A16: Programma 4 | B16: Nieuw geld | C16: Jaarlijkse kosten beheersysteem openbare verlichting | D16: Het budget wordt verhoogd voor de jaarlijkse kosten van het aan te schaffen beheersysteem voor openbare verlichting. | F16: Ja | H16: -10000 | I16: -10000 | J16: -10000 | K16: -10000 | M16: =IF($F16="Ja",SUM(H16), IF($F16="Deels",$G16*H16, IF($F16="Verschuiven", IF($G16=2028,"",IF($G16=2029,"",IF($G16=2030,"",""))), IF($F16="Nee","","Nakijken")))) -> -10000 | N16: =IF($F16="Ja",SUM(I16), IF($F16="Deels",$G16*I16, IF($F16="Verschuiven", IF($G16=2028,H16,IF($G16=2029,"",IF($G16=2030,"",""))), IF($F16="Nee","","Nakijken")))) -> -10000 | O16: =IF($F16="Ja",SUM(J16), IF($F16="Deels",$G16*J16, IF($F16="Verschuiven", IF($G16=2028,I16,IF($G16=2029,H16,IF($G16=2030,"",""))), IF($F16="Nee","","Nakijken")))) -> -10000 | P16: =IF($F16="Ja",SUM(K16), IF($F16="Deels",$G16*K16, IF($F16="Verschuiven", IF($G16=2028,J16,IF($G16=2029,I16,IF($G16=2030,H16,""))), IF($F16="Nee","","Nakijken")))) -> -10000
A17: Programma 4 | B17: Nieuw geld | C17: Opstellen centrumvisie Mierlo | D17: Aanvullende middelen worden gevraagd voor opstellen centrumvisie Mierlo. | F17: Ja | H17: -50000 | I17: 0 | J17: 0 | K17: 0 | M17: =IF($F17="Ja",SUM(H17), IF($F17="Deels",$G17*H17, IF($F17="Verschuiven", IF($G17=2028,"",IF($G17=2029,"",IF($G17=2030,"",""))), IF($F17="Nee","","Nakijken")))) -> -50000 | N17: =IF($F17="Ja",SUM(I17), IF($F17="Deels",$G17*I17, IF($F17="Verschuiven", IF($G17=2028,H17,IF($G17=2029,"",IF($G17=2030,"",""))), IF($F17="Nee","","Nakijken")))) -> 0 | O17: =IF($F17="Ja",SUM(J17), IF($F17="Deels",$G17*J17, IF($F17="Verschuiven", IF($G17=2028,I17,IF($G17=2029,H17,IF($G17=2030,"",""))), IF($F17="Nee","","Nakijken")))) -> 0 | P17: =IF($F17="Ja",SUM(K17), IF($F17="Deels",$G17*K17, IF($F17="Verschuiven", IF($G17=2028,J17,IF($G17=2029,I17,IF($G17=2030,H17,""))), IF($F17="Nee","","Nakijken")))) -> 0
A18: Programma 4 | B18: Nieuw geld | C18: Opstellen centrumvisie Geldrop | D18: Aanvullende middelen worden gevraagd voor opstellen centrumvisie Geldrop. | F18: Ja | H18: -50000 | I18: 0 | J18: 0 | K18: 0 | M18: =IF($F18="Ja",SUM(H18), IF($F18="Deels",$G18*H18, IF($F18="Verschuiven", IF($G18=2028,"",IF($G18=2029,"",IF($G18=2030,"",""))), IF($F18="Nee","","Nakijken")))) -> -50000 | N18: =IF($F18="Ja",SUM(I18), IF($F18="Deels",$G18*I18, IF($F18="Verschuiven", IF($G18=2028,H18,IF($G18=2029,"",IF($G18=2030,"",""))), IF($F18="Nee","","Nakijken")))) -> 0 | O18: =IF($F18="Ja",SUM(J18), IF($F18="Deels",$G18*J18, IF($F18="Verschuiven", IF($G18=2028,I18,IF($G18=2029,H18,IF($G18=2030,"",""))), IF($F18="Nee","","Nakijken")))) -> 0 | P18: =IF($F18="Ja",SUM(K18), IF($F18="Deels",$G18*K18, IF($F18="Verschuiven", IF($G18=2028,J18,IF($G18=2029,I18,IF($G18=2030,H18,""))), IF($F18="Nee","","Nakijken")))) -> 0
A19: Programma 4 | B19: Nieuw geld | C19: Voorbereidingskrediet nieuwbouw scouting | D19: Deze aanvraag betreft aanvullende middelen voor voorbereidingskrediet nieuwbouw scouting (kapitaallasten). | F19: Ja | H19: 0 | I19: -4000 | J19: -3962 | K19: -3925 | M19: =IF($F19="Ja",SUM(H19), IF($F19="Deels",$G19*H19, IF($F19="Verschuiven", IF($G19=2028,"",IF($G19=2029,"",IF($G19=2030,"",""))), IF($F19="Nee","","Nakijken")))) -> 0 | N19: =IF($F19="Ja",SUM(I19), IF($F19="Deels",$G19*I19, IF($F19="Verschuiven", IF($G19=2028,H19,IF($G19=2029,"",IF($G19=2030,"",""))), IF($F19="Nee","","Nakijken")))) -> -4000 | O19: =IF($F19="Ja",SUM(J19), IF($F19="Deels",$G19*J19, IF($F19="Verschuiven", IF($G19=2028,I19,IF($G19=2029,H19,IF($G19=2030,"",""))), IF($F19="Nee","","Nakijken")))) -> -3962 | P19: =IF($F19="Ja",SUM(K19), IF($F19="Deels",$G19*K19, IF($F19="Verschuiven", IF($G19=2028,J19,IF($G19=2029,I19,IF($G19=2030,H19,""))), IF($F19="Nee","","Nakijken")))) -> -3925
A20: Programma 4 | B20: Nieuw geld | C20: Nulmeting t.b.v. uitvoeringsprogramma Economische Kracht | D20: Aanvullende middelen worden gevraagd voor nulmeting t.b.v. uitvoeringsprogramma Economische Kracht. | F20: Ja | H20: -40000 | I20: PM | J20: PM | K20: PM | M20: =IF($F20="Ja",SUM(H20), IF($F20="Deels",$G20*H20, IF($F20="Verschuiven", IF($G20=2028,"",IF($G20=2029,"",IF($G20=2030,"",""))), IF($F20="Nee","","Nakijken")))) -> -40000 | N20: =IF($F20="Ja",SUM(I20), IF($F20="Deels",$G20*I20, IF($F20="Verschuiven", IF($G20=2028,H20,IF($G20=2029,"",IF($G20=2030,"",""))), IF($F20="Nee","","Nakijken")))) -> 0 | O20: =IF($F20="Ja",SUM(J20), IF($F20="Deels",$G20*J20, IF($F20="Verschuiven", IF($G20=2028,I20,IF($G20=2029,H20,IF($G20=2030,"",""))), IF($F20="Nee","","Nakijken")))) -> 0 | P20: =IF($F20="Ja",SUM(K20), IF($F20="Deels",$G20*K20, IF($F20="Verschuiven", IF($G20=2028,J20,IF($G20=2029,I20,IF($G20=2030,H20,""))), IF($F20="Nee","","Nakijken")))) -> 0
A21: Programma 4 | B21: Nieuw geld | C21: Uitbreiding BOA capaciteit met 2 FTE | D21: Aanvullende middelen worden gevraagd voor uitbreiding BOA capaciteit met 2 FTE. | E21: BOA capaciteit wordt pr 2027 met 1 FTE uitgebreid. Daarna wederom met 1 FTE per 2028. | F21: Ja | H21: -80000 | I21: -160000 | J21: -160000 | K21: -160000 | M21: =IF($F21="Ja",SUM(H21), IF($F21="Deels",$G21*H21, IF($F21="Verschuiven", IF($G21=2028,"",IF($G21=2029,"",IF($G21=2030,"",""))), IF($F21="Nee","","Nakijken")))) -> -80000 | N21: =IF($F21="Ja",SUM(I21), IF($F21="Deels",$G21*I21, IF($F21="Verschuiven", IF($G21=2028,H21,IF($G21=2029,"",IF($G21=2030,"",""))), IF($F21="Nee","","Nakijken")))) -> -160000 | O21: =IF($F21="Ja",SUM(J21), IF($F21="Deels",$G21*J21, IF($F21="Verschuiven", IF($G21=2028,I21,IF($G21=2029,H21,IF($G21=2030,"",""))), IF($F21="Nee","","Nakijken")))) -> -160000 | P21: =IF($F21="Ja",SUM(K21), IF($F21="Deels",$G21*K21, IF($F21="Verschuiven", IF($G21=2028,J21,IF($G21=2029,I21,IF($G21=2030,H21,""))), IF($F21="Nee","","Nakijken")))) -> -160000
A22: Programma 5 | B22: Nieuw geld | C22: Voertuigen toezichthouders | D22: Aanvullende middelen worden gevraagd voor voertuigen voor toezichthouders. | E22: De toezichthouders maken tot op heden gebruik van hun eigen voertuigen. In een verdere professionalisering en de verantwoordelijkheid van de werkgever om te zorgen voor goede bedrifsmiddelen. Wordt vorogesteld om over te gaan voor het beschikbaar stellen van (deel)voertuigen voor de toezichthouders | F22: Ja | H22: -32000 | I22: -32000 | J22: -32000 | K22: -32000 | M22: =IF($F22="Ja",SUM(H22), IF($F22="Deels",$G22*H22, IF($F22="Verschuiven", IF($G22=2028,"",IF($G22=2029,"",IF($G22=2030,"",""))), IF($F22="Nee","","Nakijken")))) -> -32000 | N22: =IF($F22="Ja",SUM(I22), IF($F22="Deels",$G22*I22, IF($F22="Verschuiven", IF($G22=2028,H22,IF($G22=2029,"",IF($G22=2030,"",""))), IF($F22="Nee","","Nakijken")))) -> -32000 | O22: =IF($F22="Ja",SUM(J22), IF($F22="Deels",$G22*J22, IF($F22="Verschuiven", IF($G22=2028,I22,IF($G22=2029,H22,IF($G22=2030,"",""))), IF($F22="Nee","","Nakijken")))) -> -32000 | P22: =IF($F22="Ja",SUM(K22), IF($F22="Deels",$G22*K22, IF($F22="Verschuiven", IF($G22=2028,J22,IF($G22=2029,I22,IF($G22=2030,H22,""))), IF($F22="Nee","","Nakijken")))) -> -32000
A23: Programma 5 | B23: Nieuw geld | C23: Nieuwe huisstijl gemeente Geldrop-Mierlo | D23: Geldrop-Mierlo krijgt gefaseerd een nieuwe huisstijl. | F23: Ja | H23: -70000 | I23: -55000 | J23: -30000 | K23: -20000 | M23: -70000 | N23: -55000 | O23: -30000 | P23: -20000
A24: Programma 5 | B24: Eerdere toezegging/motie aan de raad | C24: Pilot ‘Meedoen in Geldrop-Mierlo’ | D24: Op 8 december 2025 heeft de raad een motie aangenomen met het verzoek aan het college om: "een pilotregeling te ontwikkelen ("Meedoen in Geldrop-Mierlo") waarbij iedere nieuwe inwoner een waardebon ontvangt, te besteden aan een lidmaatschap van een jaar bij een lokale vereniging." | E24: Er heeft een verkenning plaatsgevonden naar de financiële impact van een Welkomstregeling. De totale kosten voor een pilot bedragen 50.000 in het opstartjaar van de regeling. Daarbij wordt rekening gehouden met een totale nieuwe instroom van gemiddeld 2400 inwoners in de gemeente per jaar en wordt uitgegaan van relatief laag gebruik van de regeling (10% van het potentieel). Tevens zijn de benodigde uitvoeringskosten in beeld gebracht. Bij een succesvolle pilot zal de regeling een aanzuigende werking hebben, en nemen daarmee de kosten in de opvolgende jaren structureel toe. | F24: Verschuiven | G24: 2028 | H24: -50000 | I24: -100000 | J24: -150000 | K24: -150000 | M24: =IF($F24="Ja",SUM(H24), IF($F24="Deels",$G24*H24, IF($F24="Verschuiven", IF($G24=2028,"",IF($G24=2029,"",IF($G24=2030,"",""))), IF($F24="Nee","","Nakijken")))) | N24: =IF($F24="Ja",SUM(I24), IF($F24="Deels",$G24*I24, IF($F24="Verschuiven", IF($G24=2028,H24,IF($G24=2029,"",IF($G24=2030,"",""))), IF($F24="Nee","","Nakijken")))) -> -50000 | O24: =IF($F24="Ja",SUM(J24), IF($F24="Deels",$G24*J24, IF($F24="Verschuiven", IF($G24=2028,I24,IF($G24=2029,H24,IF($G24=2030,"",""))), IF($F24="Nee","","Nakijken")))) -> -100000 | P24: =IF($F24="Ja",SUM(K24), IF($F24="Deels",$G24*K24, IF($F24="Verschuiven", IF($G24=2028,J24,IF($G24=2029,I24,IF($G24=2030,H24,""))), IF($F24="Nee","","Nakijken")))) -> -150000
G26: TOTAAL | H26: =SUM(H5:H25) -> -915274 | I26: =SUM(I5:I25) -> -791865 | J26: =SUM(J5:J25) -> -717827 | K26: =SUM(K5:K25) -> -707790 | M26: =SUM(M5:M25) -> -735274 | N26: =SUM(N5:N25) -> -641865 | O26: =SUM(O5:O25) -> -667827 | P26: =SUM(P5:P25) -> -707790

Sheet D - Ombuigingen
A1: D - Ombuigingen
A2: -/- (negatief) bedrag betekent verslechtering begrotingssaldo, +/+ (positief) bedrag betekent verbetering begrotingssaldo
G3: WAS | M3: WORDT
A4: Domein / onderdeel | B4: Keuze / ombuiging | C4: Wat verandert er? | D4: Impact / risico’s / aandachtspunten | E4: Meenemen? | F4: Deels/ Verschuiven | G4: 2027 | H4: 2028 | I4: 2029 | J4: 2030 | K4: Soort maatregel | L4: .. | M4: 2027 | N4: 2028 | O4: 2029 | P4: 2030
A5: Jeugd en Wmo | B5: Stelpost eigen bijdrage jeugd | C5: Mogelijke stelpost op te nemen als gevolg van daling van de algemene uitkering op het gebied van jeugd voor nog in te voeren landelijke regelgeving. | D5: Het Rijk heeft de algemene uitkering al gekort op een landelijke eigen bijdrage voor jeugdhulp die nog niet is ingevoerd. Het gaat om een bijdrage voor inwoners die de zorg zelf kunnen bekostigen. De Vereniging van Nederlandse Gemeenten en de provincie staan daarom toe hiervoor een stelpost op te nemen en adviseren daar positief over; ook vanuit financiën wordt dat ondersteund. De wetgeving moet echter nog door de landelijke politiek. Het risico dat de opbrengst in de praktijk anders uitvalt blijft bestaan en vraagt een bewuste bestuurlijke afweging. | E5: Ja | G5: 0 | H5: 556465 | I5: 556465 | J5: 556465 | K5: Financieel-technische maatregel | M5: =IF($E5="Ja",SUM(G5), IF($E5="Deels",$F5*G5, IF($E5="Verschuiven", IF($F5=2028,"",IF($F5=2029,"",IF($F5=2030,"",""))), IF($E5="Nee","","Nakijken")))) -> 0 | N5: =IF($E5="Ja",SUM(H5), IF($E5="Deels",$F5*H5, IF($E5="Verschuiven", IF($F5=2028,G5,IF($F5=2029,"",IF($F5=2030,"",""))), IF($E5="Nee","","Nakijken")))) -> 556465 | O5: =IF($E5="Ja",SUM(I5), IF($E5="Deels",$F5*I5, IF($E5="Verschuiven", IF($F5=2028,H5,IF($F5=2029,G5,IF($F5=2030,"",""))), IF($E5="Nee","","Nakijken")))) -> 556465 | P5: =IF($E5="Ja",SUM(J5), IF($E5="Deels",$F5*J5, IF($E5="Verschuiven", IF($F5=2028,I5,IF($F5=2029,H5,IF($F5=2030,G5,""))), IF($E5="Nee","","Nakijken")))) -> 556465
